BEGIN:VCALENDAR
VERSION:2.0
PRODID:-//Novocine - ECPv4.9.9//NONSGML v1.0//EN
CALSCALE:GREGORIAN
METHOD:PUBLISH
X-WR-CALNAME:Novocine
X-ORIGINAL-URL:https://novocine.es
X-WR-CALDESC:Eventos para Novocine
BEGIN:VTIMEZONE
TZID:Europe/Paris
BEGIN:DAYLIGHT
TZOFFSETFROM:+0100
TZOFFSETTO:+0200
TZNAME:CEST
DTSTART:20210328T010000
END:DAYLIGHT
BEGIN:STANDARD
TZOFFSETFROM:+0200
TZOFFSETTO:+0100
TZNAME:CET
DTSTART:20211031T010000
END:STANDARD
END:VTIMEZONE
BEGIN:VEVENT
DTSTART;TZID=Europe/Paris:20211217T201500
DTEND;TZID=Europe/Paris:20211217T201500
DTSTAMP:20260420T225931
CREATED:20211201T183652Z
LAST-MODIFIED:20211201T192234Z
UID:5054-1639772100-1639772100@novocine.es
SUMMARY:XV NOVOCINE (2021) - Proyección de O PERGAMINHO VERMELHO\, de Nelson Botter Jr
DESCRIPTION:
URL:https://novocine.es/evento/xv-novocine-2021-proyeccion-pergaminho-vermelho-nelson-botter-jr/
CATEGORIES:cine brasileño,cine brasileño gratis,V.O.S.E.
END:VEVENT
END:VCALENDAR