BEGIN:VCALENDAR
VERSION:2.0
PRODID:-//Novocine - ECPv4.9.9//NONSGML v1.0//EN
CALSCALE:GREGORIAN
METHOD:PUBLISH
X-WR-CALNAME:Novocine
X-ORIGINAL-URL:https://novocine.es
X-WR-CALDESC:Eventos para Novocine
BEGIN:VTIMEZONE
TZID:Europe/Paris
BEGIN:DAYLIGHT
TZOFFSETFROM:+0100
TZOFFSETTO:+0200
TZNAME:CEST
DTSTART:20190331T010000
END:DAYLIGHT
BEGIN:STANDARD
TZOFFSETFROM:+0200
TZOFFSETTO:+0100
TZNAME:CET
DTSTART:20191027T010000
END:STANDARD
END:VTIMEZONE
BEGIN:VEVENT
DTSTART;TZID=Europe/Paris:20191125T190000
DTEND;TZID=Europe/Paris:20191125T210000
DTSTAMP:20260420T223605
CREATED:20191115T104743Z
LAST-MODIFIED:20191115T104743Z
UID:4741-1574708400-1574715600@novocine.es
SUMMARY:NOVOCINE: proyección de ’10 segundos para vencer’ en Madrid
DESCRIPTION:La cinta forma parte de la XIII edición de Novocine\, muestra gratuita de cine brasileño en V.O.S.E. organizada por la Embajada de Brasil para dar a conocer entre el público español la cinematografía más reciente y premiada del país. \nLas entradas para cada proyección\, un máximo de dos por persona\, se recogerán gratuitamente en taquilla desde una hora antes del inicio de cada sesión. \nSinopsis \nEmocionante biografía del púgil brasileño\, Eder Jofre\, desde su infancia hasta convertirse en legenda del boxeo mundial. Un hombre dividido entre la pasión por el deporte y la vida familiar\, lo que en ocasiones dificultará la relación con su padre y preparador\, Kid Jofre. \nProyecciones \n10 segundos para vencer es la cinta escogida para inaugurar la XIII edición de Novocine. La película se proyectará el jueves 21 de noviembre a las 20:30h (apertura de puertas a las 20h)\, el LUNES 25 de noviembre a las 19h y el JUEVES 28 a las 21:30h en el Cine Palacio de la Prensa (Plaza del Callao\, 4. Madrid). Entrada gratuita. \nTrailer \n \n  \nPremios \n• Mejor Actor (Osmar Prado)- Festival de Gramado \n• Mejor Actor de Reparto (Ricardo Gelli)- Festival de Gramado \n
URL:https://novocine.es/evento/novocine-proyeccion-10-segundos-vencer-madrid/
LOCATION:Cine Palacio de la Prensa\, Plaza de Callao\, 4\, 28013 \, Madrid\, Madrid\, 28013 \, España
CATEGORIES:cine brasileño,cine brasileño gratis,V.O.S.E.
END:VEVENT
BEGIN:VEVENT
DTSTART;TZID=Europe/Paris:20191125T213000
DTEND;TZID=Europe/Paris:20191125T233000
DTSTAMP:20260420T223605
CREATED:20191115T105615Z
LAST-MODIFIED:20191115T105704Z
UID:4745-1574717400-1574724600@novocine.es
SUMMARY:NOVOCINE: proyección de ‘Fala sério\, mãe!’ en Madrid
DESCRIPTION:La cinta forma parte de la XIII edición de Novocine\, muestra gratuita de cine brasileño en V.O.S.E. organizada por la Embajada de Brasil para dar a conocer entre el público español la cinematografía más reciente y premiada del país. \nLas entradas para cada proyección\, un máximo de dos por persona\, se recogerán gratuitamente en taquilla desde una hora antes del inicio de cada sesión. \nDirector: Pedro Vasconcelos\n \n\n\n\n\nSinopsis \nAdaptación libre del libro homónimo de Thalita Rebouças\, esta comedia que aborda las principales dificultades de la maternidad. Con buenas dosis de humor y emoción\, cuenta la relación entre una madre\, Ângela Cristina\, y su hija Malu a lo largo de los años. \nProyecciones \nLa película se proyectará el sábado 23 de noviembre a las 19h y el lunes 25 a las 21:30h en el Cine Palacio de la Prensa (Plaza del Callao\, 4. Madrid). Entrada gratuita. \nTrailer \n \nFestivales y premios \n\nSegunda película brasileña más vista en los cines de Brasil en 2018 (3.017.916 espectadores)\nMejor Película- 19 edición de Meus Prêmios Nick 2018.\n\n\n\n\n\n
URL:https://novocine.es/evento/4745/
LOCATION:Cine Palacio de la Prensa\, Plaza de Callao\, 4\, 28013 \, Madrid\, Madrid\, 28013 \, España
CATEGORIES:cine brasileño,cine brasileño gratis,V.O.S.E.
END:VEVENT
END:VCALENDAR