BEGIN:VCALENDAR
VERSION:2.0
PRODID:-//Novocine - ECPv4.9.9//NONSGML v1.0//EN
CALSCALE:GREGORIAN
METHOD:PUBLISH
X-WR-CALNAME:Novocine
X-ORIGINAL-URL:https://novocine.es
X-WR-CALDESC:Eventos para Novocine
BEGIN:VTIMEZONE
TZID:Europe/Paris
BEGIN:DAYLIGHT
TZOFFSETFROM:+0100
TZOFFSETTO:+0200
TZNAME:CEST
DTSTART:20190331T010000
END:DAYLIGHT
BEGIN:STANDARD
TZOFFSETFROM:+0200
TZOFFSETTO:+0100
TZNAME:CET
DTSTART:20191027T010000
END:STANDARD
END:VTIMEZONE
BEGIN:VEVENT
DTSTART;TZID=Europe/Paris:20190627T170000
DTEND;TZID=Europe/Paris:20190627T190000
DTSTAMP:20260420T094820
CREATED:20190606T110028Z
LAST-MODIFIED:20190606T110539Z
UID:4503-1561654800-1561662000@novocine.es
SUMMARY:NOVOCINE: Proyección de “Bingo” en Bilbao
DESCRIPTION:En el marco de Novocine itinerante se proyectarán en Bilbao cinco de los títulos\, en dos pases cada uno\, que forman parte de la XII edición de la muestra gratuita de cine brasileño en VOSE organizada por la Embajada de Brasil y la Fundación Cultural Hispano-Brasileña con el objetivo de dar a conocer entre el público español las últimas novedades del cine de Brasil. \nLas películas se exhibirán gratuitamente y en VOSE con la colaboración de la Fundación BilbaoArte en el Art House Zinema. \nDirector: Daniel Rezende. \nSINOPSIS \nAugusto\, un artista que siempre soñó con estar bajo los focos\, finalmente tiene su gran oportunidad al convertirse en Bingo\, el payaso presentador de un programa infantil de televisión que se convierte en un éxito absoluto. Una cláusula en el contrato no permite revelar quién está tras la máscara\, lo que produce en Augusto la frustración de ser el hombre anónimo más famoso de Brasil. Esta es la historia de una persona\, llena de excesos\, que busca el reconocimiento de su arte. \nTRAILER \n \nPREMIOS Y FESTIVALES \n\nPelícula candidata de Brasil a los Oscar 2017\nPelícula candidata de Brasil a los Goya 2017\nPrimer premio en el Festival de Cine Brasileño de París\nPremio del Público en el Festival de Granada\nGran Premio del Cine Brasileño 2018:\n\nMejor Largometraje de Ficción\nMejor Actor\nMejor Actor de Reparto\nMejor Dirección de Arte\nMejor Dirección de Fotografía\nMejor Montaje\nMejor Vestuario\nVoto Popular\n\n\n\n
URL:https://novocine.es/evento/novocine-proyeccion-bingo-bilbao/
LOCATION:Fundación Bilbao Arte (Urazurrutia Kalea\, 32\, Bilbao)\, Urazurrutia Kalea\, 32\, Bilbao\, Bizkaia\, 48003\, España
CATEGORIES:cine brasileño,cine brasileño gratis,V.O.S.E.
END:VEVENT
BEGIN:VEVENT
DTSTART;TZID=Europe/Paris:20190627T190000
DTEND;TZID=Europe/Paris:20190627T210000
DTSTAMP:20260420T094820
CREATED:20190603T163757Z
LAST-MODIFIED:20190603T163814Z
UID:4485-1561662000-1561669200@novocine.es
SUMMARY:NOVOCINE: proyección de “Malasartes e o duelo com a morte” en Bilbao
DESCRIPTION:En el marco de Novocine itinerante se proyectarán en Bilbao cinco de los títulos\, en dos pases cada uno\, que forman parte de la XII edición de la muestra gratuita de cine brasileño en VOSE organizada por la Embajada de Brasil y la Fundación Cultural Hispano-Brasileña con el objetivo de dar a conocer entre el público español las últimas novedades del cine de Brasil. \nLas películas se exhibirán gratuitamente y en VOSE con la colaboración de la Fundación BilbaoArte en el Art House Zinema. \nDirector: Paulo Morelli. \nClasificación indicativa: 12 años. \nSINOPSIS \nComedia sobre las aventuras de Pedro Malasartes\, personaje tradicional del folclore iberoamericano que vive de pequeños trapicheos. Malasartes tendrá que enfrentarse con dos grandes enemigos: Próspero\, que no quiere que su hermana Aurea se convierta en su novia porque le considera un vago; y la Muerte que\, cansada de segar vidas\, quiere que Malasartes tome su lugar. Si no basta con el plan de la Muerte y las ganas de Próspero de estrangularle\, Malasartes tendrá que lidiar con la bruja Parca Cortadeira y con el ayudante de la Muerte\, Esculápio\, que desean para sí mismos el puesto que la Muerte pretende dejar. \nTRAILER \n \nPREMIOS Y FESTIVALES \n27º Festival de Cine de Ceará \nMalasartes es la película con mayor número de efectos especiales de la historia del cine brasileño. \n
URL:https://novocine.es/evento/novocine-proyeccion-malasartes-e-duelo-com-morte-bilbao-2/
LOCATION:Fundación Bilbao Arte (Urazurrutia Kalea\, 32\, Bilbao)\, Urazurrutia Kalea\, 32\, Bilbao\, Bizkaia\, 48003\, España
END:VEVENT
END:VCALENDAR