BEGIN:VCALENDAR
VERSION:2.0
PRODID:-//Novocine - ECPv4.9.9//NONSGML v1.0//EN
CALSCALE:GREGORIAN
METHOD:PUBLISH
X-WR-CALNAME:Novocine
X-ORIGINAL-URL:https://novocine.es
X-WR-CALDESC:Eventos para Novocine
BEGIN:VTIMEZONE
TZID:Europe/Paris
BEGIN:DAYLIGHT
TZOFFSETFROM:+0100
TZOFFSETTO:+0200
TZNAME:CEST
DTSTART:20190331T010000
END:DAYLIGHT
BEGIN:STANDARD
TZOFFSETFROM:+0200
TZOFFSETTO:+0100
TZNAME:CET
DTSTART:20191027T010000
END:STANDARD
END:VTIMEZONE
BEGIN:VEVENT
DTSTART;TZID=Europe/Paris:20190620T170000
DTEND;TZID=Europe/Paris:20190620T190000
DTSTAMP:20260420T094544
CREATED:20190606T103811Z
LAST-MODIFIED:20190606T103811Z
UID:4497-1561050000-1561057200@novocine.es
SUMMARY:NOVOCINE: proyección de “O filme da minha vida” en Bilbao
DESCRIPTION:En el marco de Novocine itinerante se proyectarán en Bilbao cinco de los títulos\, en dos pases cada uno\, que forman parte de la XII edición de la muestra gratuita de cine brasileño en VOSE organizada por la Embajada de Brasil y la Fundación Cultural Hispano-Brasileña con el objetivo de dar a conocer entre el público español las últimas novedades del cine de Brasil. \nLas películas se exhibirán gratuitamente y en VOSE con la colaboración de la Fundación BilbaoArte en el Art House Zinema. \nDirector: Selton Mello. \nSinopsis \nBasada en la novela Un padre de película\, del escritor chileno Antonio Skármeta\, cuenta la historia del joven Tony que se enfrenta a la ausencia del padre\, que ha vuelto a Francia abandonándolos a él y a su madre. Profesor de francés en un colegio\, tiene además que lidiar con sus alumnos adolescentes. Apasionado por las películas que ve en la ciudad\, hace del amor y del cine sus grandes razones para vivir. Hasta que la verdad sobre su padre sale a flote y lo obliga a tomar las riendas de su vida. \nTrailer \n \nFestivales y premios \n• Premio del Público del 22 Festival de Cine de Lima PUCP 2018 (Perú) \n• Gran Premio del Cine Brasileño 2018 (Brasil) \no Premio a la Mejor Banda Sonora (Plinio Profeta)\no Finalista del Premio al Mejor Actor de Reparto\no Finalista del Premio al Mejor Guion Adaptado\no Finalista del Premio de Mejor Dirección de Fotografia\no Finalista del Premio a la Mejor Dirección de Arte\no Finalista del Premio al Mejor Vestuario\no Finalista del Premio al Mejor Maquillaje\no Finalista del Premio al Mejor Sonido \n• Finalista del Premio Platino 2018 a la Mejor Banda Sonora (México) \n• Nominado al Premio de Mejor Largometraje de los Premios Fénix del Cine Iberoamericano 2018 \n• Festival de Málaga 2018 (Sección Focus Brasil) (España) \n• Festival de Cine Brasileño de Luxemburgo 2018 \n• Festival de Cine Brasileño de París (Francia) \n• Festival de Cine de la Habana (Cuba) \n• 44 Festival Sesc Mejores Películas (Brasil) \n
URL:https://novocine.es/evento/novocine-proyeccion-filme-da-minha-vida-bilbao-2/
LOCATION:Fundación Bilbao Arte (Urazurrutia Kalea\, 32\, Bilbao)\, Urazurrutia Kalea\, 32\, Bilbao\, Bizkaia\, 48003\, España
END:VEVENT
BEGIN:VEVENT
DTSTART;TZID=Europe/Paris:20190620T190000
DTEND;TZID=Europe/Paris:20190620T210000
DTSTAMP:20260420T094544
CREATED:20190606T105500Z
LAST-MODIFIED:20190606T105625Z
UID:4501-1561057200-1561064400@novocine.es
SUMMARY:NOVOCINE: Proyección de “Alguma coisa assim” en Bilbao
DESCRIPTION:En el marco de Novocine itinerante se proyectarán en Bilbao cinco de los títulos\, en dos pases cada uno\, que forman parte de la XII edición de la muestra gratuita de cine brasileño en VOSE organizada por la Embajada de Brasil y la Fundación Cultural Hispano-Brasileña con el objetivo de dar a conocer entre el público español las últimas novedades del cine de Brasil. \nLas películas se exhibirán gratuitamente y en VOSE con la colaboración de la Fundación BilbaoArte en el Art House Zinema. \nDirectores: Esmir Filho y Mariana Bastos. \nSINOPSIS \nCaio y Mari son dos jóvenes que viven una relación que va más allá de cualquier definición. A lo largo de 10 años\, la trama transita entre tres momentos significativos en los que sus deseos entran en conflicto y su relación se pone a prueba. La película\, desarrollada a partir de un corto homónimo de 2006\, propone una reflexión sobre la sexualidad\, las etiquetas y cómo el tiempo construye y transforma las relaciones. \nTRAILER \n \nPREMIOS Y FESTIVALES \nFestival do Rio – Mejor Montaje (Caroline Leone)\nFestival de Guadalajara (México) 2018 \n
URL:https://novocine.es/evento/novocine-proyeccion-alguma-coisa-assim-bilbao-2/
LOCATION:Fundación Bilbao Arte (Urazurrutia Kalea\, 32\, Bilbao)\, Urazurrutia Kalea\, 32\, Bilbao\, Bizkaia\, 48003\, España
CATEGORIES:cine brasileño,cine brasileño gratis,V.O.S.E.
END:VEVENT
END:VCALENDAR