BEGIN:VCALENDAR
VERSION:2.0
PRODID:-//Novocine - ECPv4.9.9//NONSGML v1.0//EN
CALSCALE:GREGORIAN
METHOD:PUBLISH
X-WR-CALNAME:Novocine
X-ORIGINAL-URL:https://novocine.es
X-WR-CALDESC:Eventos para Novocine
BEGIN:VTIMEZONE
TZID:Europe/Paris
BEGIN:DAYLIGHT
TZOFFSETFROM:+0100
TZOFFSETTO:+0200
TZNAME:CEST
DTSTART:20190331T010000
END:DAYLIGHT
BEGIN:STANDARD
TZOFFSETFROM:+0200
TZOFFSETTO:+0100
TZNAME:CET
DTSTART:20191027T010000
END:STANDARD
END:VTIMEZONE
BEGIN:VEVENT
DTSTART;TZID=Europe/Paris:20190527T200000
DTEND;TZID=Europe/Paris:20190527T220000
DTSTAMP:20260420T080646
CREATED:20190430T145952Z
LAST-MODIFIED:20190430T145952Z
UID:4466-1558987200-1558994400@novocine.es
SUMMARY:NOVOCINE: Proyección de “Antes que eu me esqueça” en Sevilla
DESCRIPTION:En el marco de Novocine itinerante se proyectarán en Sevilla cinco de los títulos que forman parte de la XII edición de la muestra gratuita de cine brasileño en VOSE organizada por la Embajada de Brasil y la Fundación Cultural Hispano-Brasileña con el objetivo de dar a conocer entre el público español las últimas novedades del cine de Brasil. \nLas películas se exhibirán gratuitamente y en VOSE en la Filmoteca de Andalucía. \nDirector: Tiago Arikilian. \nSINOPSIS \nLa película gira en torno a la relación entre Polidoro (José de Abreu)\, un soberbio juez de 80 años jubilado que vive solo\, y su hijo Paulo (Danton Mello)\, un pianista fracasado. La trama comienza cuando la otra hija del protagonista\, Bia (Letícia Isnard)\, pone en marcha la incapacitación del anciano y este decide invertir todos sus ahorros en un local de striptease en Copacabana. \nTRAILER \n \nPREMIOS Y FESTIVALES \nMejor Película Extranjera del ITFF 2018 Award Winner Production (Tailandia)\nMuestra de São Paulo\nSanta Bárbara Filme Festival (California)\nFestIn Lisboa\nFestival de Cine Brasileño de Paris \n
URL:https://novocine.es/evento/novocine-proyeccion-eu-me-esqueca-sevilla/
LOCATION:Filmoteca de Andalucía en Sevilla\, C/ Madre de Dios\, 1.\, Sevilla\, 41.004\, Spain
CATEGORIES:cine brasileño,cine brasileño gratis,V.O.S.E.
END:VEVENT
BEGIN:VEVENT
DTSTART;TZID=Europe/Paris:20190527T203000
DTEND;TZID=Europe/Paris:20190527T223000
DTSTAMP:20260420T080646
CREATED:20190508T143332Z
LAST-MODIFIED:20190508T143332Z
UID:4475-1558989000-1558996200@novocine.es
SUMMARY:NOVOCINE: proyección de “Malasartes e o duelo com a morte” en Córdoba
DESCRIPTION:En el marco de Novocine itinerante se proyectarán en Córdoba cinco de los títulos que forman parte de la XII edición de la muestra gratuita de cine brasileño en VOSE organizada por la Embajada de Brasil y la Fundación Cultural Hispano-Brasileña con el objetivo de dar a conocer entre el público español las últimas novedades del cine de Brasil. \nLas películas se exhibirán gratuitamente y en VOSE en la Filmoteca de Andalucía. \nDirector: Paulo Morelli. \nClasificación indicativa: 12 años. \nSINOPSIS \nComedia sobre las aventuras de Pedro Malasartes\, personaje tradicional del folclore iberoamericano que vive de pequeños trapicheos. Malasartes tendrá que enfrentarse con dos grandes enemigos: Próspero\, que no quiere que su hermana Aurea se convierta en su novia porque le considera un vago; y la Muerte que\, cansada de segar vidas\, quiere que Malasartes tome su lugar. Si no basta con el plan de la Muerte y las ganas de Próspero de estrangularle\, Malasartes tendrá que lidiar con la bruja Parca Cortadeira y con el ayudante de la Muerte\, Esculápio\, que desean para sí mismos el puesto que la Muerte pretende dejar. \nTRAILER \n \nPREMIOS Y FESTIVALES \n27º Festival de Cine de Ceará \nMalasartes es la película con mayor número de efectos especiales de la historia del cine brasileño. \n
URL:https://novocine.es/evento/novocine-proyeccion-malasartes-e-duelo-com-morte-cordoba-2/
LOCATION:Filmoteca  de Andalucía\, C/ Medina y Corella\, 5\, Córdoba\, Andalucía\, 14003\, Spain
CATEGORIES:cine brasileño,cine brasileño gratis,V.O.S.E.
END:VEVENT
END:VCALENDAR