BEGIN:VCALENDAR
VERSION:2.0
PRODID:-//Novocine - ECPv4.9.9//NONSGML v1.0//EN
CALSCALE:GREGORIAN
METHOD:PUBLISH
X-WR-CALNAME:Novocine
X-ORIGINAL-URL:https://novocine.es
X-WR-CALDESC:Eventos para Novocine
BEGIN:VTIMEZONE
TZID:Europe/Paris
BEGIN:DAYLIGHT
TZOFFSETFROM:+0100
TZOFFSETTO:+0200
TZNAME:CEST
DTSTART:20190331T010000
END:DAYLIGHT
BEGIN:STANDARD
TZOFFSETFROM:+0200
TZOFFSETTO:+0100
TZNAME:CET
DTSTART:20191027T010000
END:STANDARD
END:VTIMEZONE
BEGIN:VEVENT
DTSTART;TZID=Europe/Paris:20190520T200000
DTEND;TZID=Europe/Paris:20190520T220000
DTSTAMP:20260420T081727
CREATED:20190430T145244Z
LAST-MODIFIED:20190430T145343Z
UID:4463-1558382400-1558389600@novocine.es
SUMMARY:NOVOCINE: Proyección de “Alguma coisa assim” en Sevilla
DESCRIPTION:En el marco de Novocine itinerante se proyectarán en Almería cinco de los títulos que forman parte de la XII edición de la muestra gratuita de cine brasileño en VOSE organizada por la Embajada de Brasil y la Fundación Cultural Hispano-Brasileña con el objetivo de dar a conocer entre el público español las últimas novedades del cine de Brasil. \nLas películas se exhibirán gratuitamente y en VOSE en la Filmoteca de Andalucía. \nDirectores: Esmir Filho y Mariana Bastos. \nSINOPSIS \nCaio y Mari son dos jóvenes que viven una relación que va más allá de cualquier definición. A lo largo de 10 años\, la trama transita entre tres momentos significativos en los que sus deseos entran en conflicto y su relación se pone a prueba. La película\, desarrollada a partir de un corto homónimo de 2006\, propone una reflexión sobre la sexualidad\, las etiquetas y cómo el tiempo construye y transforma las relaciones. \nTRAILER \n \n  \nPREMIOS Y FESTIVALES \nFestival do Rio – Mejor Montaje (Caroline Leone)\nFestival de Guadalajara (México) 2018 \n
URL:https://novocine.es/evento/novocine-proyeccion-alguma-coisa-assim-sevilla/
LOCATION:Filmoteca de Andalucía en Sevilla\, C/ Madre de Dios\, 1.\, Sevilla\, 41.004\, Spain
CATEGORIES:cine brasileño,cine brasileño gratis,V.O.S.E.
END:VEVENT
BEGIN:VEVENT
DTSTART;TZID=Europe/Paris:20190520T203000
DTEND;TZID=Europe/Paris:20190520T213000
DTSTAMP:20260420T081727
CREATED:20190508T142944Z
LAST-MODIFIED:20190508T143220Z
UID:4472-1558384200-1558387800@novocine.es
SUMMARY:NOVOCINE: proyección de “Malasartes e o duelo com a morte” en Córdoba
DESCRIPTION:En el marco de Novocine itinerante se proyectarán en Córdoba cinco de los títulos que forman parte de la XII edición de la muestra gratuita de cine brasileño en VOSE organizada por la Embajada de Brasil y la Fundación Cultural Hispano-Brasileña con el objetivo de dar a conocer entre el público español las últimas novedades del cine de Brasil. \nLas películas se exhibirán gratuitamente y en VOSE en la Filmoteca de Andalucía. \nDirector: Paulo Morelli. \nClasificación indicativa: 12 años. \nSINOPSIS \nComedia sobre las aventuras de Pedro Malasartes\, personaje tradicional del folclore iberoamericano que vive de pequeños trapicheos. Malasartes tendrá que enfrentarse con dos grandes enemigos: Próspero\, que no quiere que su hermana Aurea se convierta en su novia porque le considera un vago; y la Muerte que\, cansada de segar vidas\, quiere que Malasartes tome su lugar. Si no basta con el plan de la Muerte y las ganas de Próspero de estrangularle\, Malasartes tendrá que lidiar con la bruja Parca Cortadeira y con el ayudante de la Muerte\, Esculápio\, que desean para sí mismos el puesto que la Muerte pretende dejar. \nTRAILER \n \nPREMIOS Y FESTIVALES \n27º Festival de Cine de Ceará \nMalasartes es la película con mayor número de efectos especiales de la historia del cine brasileño. \n
URL:https://novocine.es/evento/novocine-proyeccion-malasartes-e-duelo-com-morte-cordoba/
LOCATION:Filmoteca  de Andalucía\, C/ Medina y Corella\, 5\, Córdoba\, Andalucía\, 14003\, Spain
CATEGORIES:cine brasileño,cine brasileño gratis,V.O.S.E.
END:VEVENT
END:VCALENDAR