BEGIN:VCALENDAR
VERSION:2.0
PRODID:-//Novocine - ECPv4.9.9//NONSGML v1.0//EN
CALSCALE:GREGORIAN
METHOD:PUBLISH
X-WR-CALNAME:Novocine
X-ORIGINAL-URL:https://novocine.es
X-WR-CALDESC:Eventos para Novocine
BEGIN:VTIMEZONE
TZID:Europe/Paris
BEGIN:DAYLIGHT
TZOFFSETFROM:+0100
TZOFFSETTO:+0200
TZNAME:CEST
DTSTART:20190331T010000
END:DAYLIGHT
BEGIN:STANDARD
TZOFFSETFROM:+0200
TZOFFSETTO:+0100
TZNAME:CET
DTSTART:20191027T010000
END:STANDARD
END:VTIMEZONE
BEGIN:VEVENT
DTSTART;TZID=Europe/Paris:20190410T190000
DTEND;TZID=Europe/Paris:20190410T210000
DTSTAMP:20260420T062835
CREATED:20190402T144436Z
LAST-MODIFIED:20190402T144436Z
UID:4431-1554922800-1554930000@novocine.es
SUMMARY:Proyección de la película 'Tito e os Pássaros' y coloquio en Casa de América
DESCRIPTION:La cinta de animación del cineasta Gabriel Bittar está nominada a Mejor Largometraje de los Premios Quirino del Cine Iberoamericano. \nTras la proyección habrá un coloquio con el director\, Gabriel Bittar. \nLa actividad se enmarca en la iniciativa ‘Fervor do Brasil-O Brasil abrangente: primavera brasileña en Casa de América’. Más de un mes de eventos gratuitos para mostrar la diversidad cultural de Brasil. \nSINOPSIS \nLa película se centra en la vida de Tito\, un chico de 10 años que tiene la misión de salvar al mundo de una epidemia que hace que la gente enferme cuando tiene miedo. Al finalizar la proyección habrá un coloquio con el cineasta. \nTRAILER \n \n
URL:https://novocine.es/evento/proyeccion-la-pelicula-tito-e-os%e2%80%afpassaros-coloquio-casa-america/
LOCATION:Casa de América\, Plaza de Cibeles s/n\, Madrid\, Madrid\, 28014\, España
CATEGORIES:cine brasileño,cine brasileño gratis,V.O.S.E.
END:VEVENT
END:VCALENDAR