BEGIN:VCALENDAR
VERSION:2.0
PRODID:-//Novocine - ECPv4.9.9//NONSGML v1.0//EN
CALSCALE:GREGORIAN
METHOD:PUBLISH
X-WR-CALNAME:Novocine
X-ORIGINAL-URL:https://novocine.es
X-WR-CALDESC:Eventos para Novocine
BEGIN:VTIMEZONE
TZID:Europe/Paris
BEGIN:DAYLIGHT
TZOFFSETFROM:+0100
TZOFFSETTO:+0200
TZNAME:CEST
DTSTART:20190331T010000
END:DAYLIGHT
BEGIN:STANDARD
TZOFFSETFROM:+0200
TZOFFSETTO:+0100
TZNAME:CET
DTSTART:20191027T010000
END:STANDARD
END:VTIMEZONE
BEGIN:VEVENT
DTSTART;TZID=Europe/Paris:20190307T183000
DTEND;TZID=Europe/Paris:20190307T203000
DTSTAMP:20260420T050832
CREATED:20190225T102346Z
LAST-MODIFIED:20190225T102716Z
UID:4394-1551983400-1551990600@novocine.es
SUMMARY:NOVOCINE: proyección de "Malasartes e o duelo com a Morte" en Málaga
DESCRIPTION:Novocine itinerante estrena en Málaga cinco de los títulos que forman parte de la XII edición de la muestra gratuita de cine brasileño en VOSE\, organizada por la Embajada de Brasil y la Fundación Cultural Hispano-Brasileña con el objetivo de dar a conocer entre el público español las últimas novedades del cine de Brasil. \nLas películas se proyectarán gratuitamente y en VOSE en el Ateneo de Málaga en el marco de Málaga de Festival. \nDirector: Paulo Morelli. \nClasificación indicativa: 12 años. \nSINOPSIS \nComedia sobre las aventuras de Pedro Malasartes\, personaje tradicional del folclore iberoamericano que vive de pequeños trapicheos. Malasartes tendrá que enfrentarse con dos grandes enemigos: Próspero\, que no quiere que su hermana Aurea se convierta en su novia porque le considera un vago; y la Muerte que\, cansada de segar vidas\, quiere que Malasartes tome su lugar. Si no basta con el plan de la Muerte y las ganas de Próspero de estrangularle\, Malasartes tendrá que lidiar con la bruja Parca Cortadeira y con el ayudante de la Muerte\, Esculápio\, que desean para sí mismos el puesto que la Muerte pretende dejar. \nTRAILER \n \nPREMIOS Y FESTIVALES \n27º Festival de Cine de Ceará \nMalasartes es la película con mayor número de efectos especiales de la historia del cine brasileño. \n
URL:https://novocine.es/evento/novocine-proyeccion-malasartes-e-duelo-com-morte-malaga/
LOCATION:Ateneo de Málaga (Salón de actos)\, Málaga\, España
CATEGORIES:cine brasileño,cine brasileño gratis,V.O.S.E.
END:VEVENT
END:VCALENDAR