BEGIN:VCALENDAR
VERSION:2.0
PRODID:-//Novocine - ECPv4.9.9//NONSGML v1.0//EN
CALSCALE:GREGORIAN
METHOD:PUBLISH
X-WR-CALNAME:Novocine
X-ORIGINAL-URL:https://novocine.es
X-WR-CALDESC:Eventos para Novocine
BEGIN:VTIMEZONE
TZID:Europe/Paris
BEGIN:DAYLIGHT
TZOFFSETFROM:+0100
TZOFFSETTO:+0200
TZNAME:CEST
DTSTART:20190331T010000
END:DAYLIGHT
BEGIN:STANDARD
TZOFFSETFROM:+0200
TZOFFSETTO:+0100
TZNAME:CET
DTSTART:20191027T010000
END:STANDARD
END:VTIMEZONE
BEGIN:VEVENT
DTSTART;TZID=Europe/Paris:20190225T190000
DTEND;TZID=Europe/Paris:20190225T210000
DTSTAMP:20260420T033015
CREATED:20190213T153540Z
LAST-MODIFIED:20190213T153540Z
UID:4336-1551121200-1551128400@novocine.es
SUMMARY:NOVOCINE: proyección de “Antes que eu me esqueça” en Valencia
DESCRIPTION:Novocine itinerante estrena en Valencia cinco de los títulos que forman parte de la XII edición de la muestra gratuita de cine brasileño en VOSE\, organizada por la Embajada de Brasil y la Fundación Cultural Hispano-Brasileña con el objetivo de dar a conocer entre el público español las últimas novedades del cine de Brasil. \nLas películas se proyectarán gratuitamente y en VOSE en el Centro Cultural Contemporáneo Octubre. \nDirector:  Tiago Arikilian. \nSINOPSIS \nLa película gira en torno a la relación entre Polidoro (José de Abreu)\, un soberbio juez de 80 años jubilado que vive solo\, y su hijo Paulo (Danton Mello)\, un pianista fracasado. La trama comienza cuando la otra hija del protagonista\, Bia (Letícia Isnard)\, pone en marcha la incapacitación del anciano y este decide invertir todos sus ahorros en un local de striptease en Copacabana. \nTRAILER \nPREMIOS Y FESTIVALES \n\nMejor Película Extranjera del ITFF 2018 Award Winner Production (Tailandia)\nMuestra de São Paulo\nSanta Bárbara Filme Festival (California)\nFestIn Lisboa\nFestival de Cine Brasileño de Paris\n\n
URL:https://novocine.es/evento/novocine-proyeccion-eu-me-esqueca-valencia/
LOCATION:Centro Cultural Contemporáneo Octubre\, Calle San Ferrán\, 12\, Valencia\, Comunidad Valenciana\, 46001\, España
CATEGORIES:cine brasileño,cine brasileño gratis,V.O.S.E.
END:VEVENT
BEGIN:VEVENT
DTSTART;TZID=Europe/Paris:20190225T200000
DTEND;TZID=Europe/Paris:20190225T220000
DTSTAMP:20260420T033015
CREATED:20190219T123133Z
LAST-MODIFIED:20190219T123133Z
UID:4365-1551124800-1551132000@novocine.es
SUMMARY:Proyección de 'A coleção invisível' en Salamanca
DESCRIPTION:La proyección\, de carácter gratuito\, se enmarca en el Ciclo de Cine Brasileño organizado por el Centro de Estudios Brasileños\, en colaboración con la Embajada de Brasil en España y el Servicio de Actividades Culturales de la USAL. \nDirector: Bernard Attal. \nSINOPSIS \nLa familia de Beto (Wladimir Brichta) es dueña de una tradicional tienda de antigüedades en la que está pasando por una crisis económica. Para intentar solucionar este problema emprende un viaje hasta la ciudad de Itajuípe\, interior de Bahía\, detrás de una atípica colección de grabados que fue adquirida hace 30 años por un antiguo cliente\, el coleccionista Samir (Walmor Chagas). Al llegar a Beto\, se enfrenta una fuerte resistencia de su esposa y de su hija Saada (Ludmila Rosa). \nTRAILER \n \n
URL:https://novocine.es/evento/proyeccion-colecao-invisivel-salamanca/
LOCATION:Teatro Juan del Enzina\, Calle del Tostado s/n\, Salamanca\, Castilla y León\, 37008\, España
CATEGORIES:cine brasileño,cine brasileño gratis,V.O.S.E.
END:VEVENT
END:VCALENDAR