BEGIN:VCALENDAR
VERSION:2.0
PRODID:-//Novocine - ECPv4.9.9//NONSGML v1.0//EN
CALSCALE:GREGORIAN
METHOD:PUBLISH
X-WR-CALNAME:Novocine
X-ORIGINAL-URL:https://novocine.es
X-WR-CALDESC:Eventos para Novocine
BEGIN:VTIMEZONE
TZID:Europe/Paris
BEGIN:DAYLIGHT
TZOFFSETFROM:+0100
TZOFFSETTO:+0200
TZNAME:CEST
DTSTART:20190331T010000
END:DAYLIGHT
BEGIN:STANDARD
TZOFFSETFROM:+0200
TZOFFSETTO:+0100
TZNAME:CET
DTSTART:20191027T010000
END:STANDARD
END:VTIMEZONE
BEGIN:VEVENT
DTSTART;TZID=Europe/Paris:20190207T193000
DTEND;TZID=Europe/Paris:20190207T213000
DTSTAMP:20260420T032127
CREATED:20190129T120902Z
LAST-MODIFIED:20190129T120937Z
UID:4319-1549567800-1549575000@novocine.es
SUMMARY:NOVOCINE: proyección de “Alguma coisa assim” en Lugo
DESCRIPTION:Novocine itinerante lleva a Lugo cuatro de los títulos que forman parte de la XII edición de la muestra gratuita de cine brasileño en VOSE  organizada por la Embajada de Brasil y la Fundación Cultural Hispano-Brasileña con el objetivo de dar a conocer entre el público español las últimas novedades del cine de Brasil. \nLas películas se proyectarán gratuitamente y en VOSE en la Diputación de Lugo. \nDirectores: Esmir Filho y Mariana Bastos. \nSINOPSIS \nCaio y Mari son dos jóvenes que viven una relación que va más allá de cualquier definición. A lo largo de 10 años\, la trama transita entre tres momentos significativos en los que sus deseos entran en conflicto y su relación se pone a prueba. La película\, desarrollada a partir de un corto homónimo de 2006\, propone una reflexión sobre la sexualidad\, las etiquetas y cómo el tiempo construye y transforma las relaciones. \nTRAILER \n \nPREMIOS Y FESTIVALES \n\nFestival do Rio – Mejor Montaje (Caroline Leone)\nFestival de Guadalajara (México) 2018\n\n
URL:https://novocine.es/evento/novocine-proyeccion-alguma-coisa-assim-lugo/
LOCATION:Diputación Provincial de Lugo\, Calle de la Virxe da Soidade\, 27001 Lugo\, Lugo
CATEGORIES:cine brasileño,cine brasileño gratis,V.O.S.E.
END:VEVENT
END:VCALENDAR