BEGIN:VCALENDAR
VERSION:2.0
PRODID:-//Novocine - ECPv4.9.9//NONSGML v1.0//EN
CALSCALE:GREGORIAN
METHOD:PUBLISH
X-WR-CALNAME:Novocine
X-ORIGINAL-URL:https://novocine.es
X-WR-CALDESC:Eventos para Novocine
BEGIN:VTIMEZONE
TZID:Europe/Paris
BEGIN:DAYLIGHT
TZOFFSETFROM:+0100
TZOFFSETTO:+0200
TZNAME:CEST
DTSTART:20180325T010000
END:DAYLIGHT
BEGIN:STANDARD
TZOFFSETFROM:+0200
TZOFFSETTO:+0100
TZNAME:CET
DTSTART:20181028T010000
END:STANDARD
END:VTIMEZONE
BEGIN:VEVENT
DTSTART;TZID=Europe/Paris:20180922T200000
DTEND;TZID=Europe/Paris:20180922T230000
DTSTAMP:20260419T135612
CREATED:20180911T160642Z
LAST-MODIFIED:20180913T150049Z
UID:4029-1537646400-1537657200@novocine.es
SUMMARY:NOVOCINE: proyección de "O filho eterno" en Andorra la Vella
DESCRIPTION:El salón del actos del centro cultural La Llacuna del Comú de Andorra la Vella acogerá la proyección\, gratuita y en V.O. de varios de los títulos que conforman la XIII edición de Novocine\, muestra de cina brasileño gratuita y en V.O. organizada por la Embajada de Brasil y la Fundación Cultural Hispano-Brasileña. \nDirector: Paulo Machline \nSINOPSIS \nRoberto\, escritor en ciernes\, está ilusionado con el nacimiento de su hijo. Sin embargo\, aún en el hospital\, descubre que tendrá que acostumbrarse a una nueva realidad: ser padre de Fabrício\, un niño con síndrome de Down. La noticia provoca en Roberto una maraña de emociones contradictorias y conflictos que acaban afectando a su trabajo y a su relación matrimonial con Claudia. A lo largo de 12 años\, entre obstáculos\, conquistas y descubrimientos\, se revela el significado de la paternidad. Esta película se basa en la obra homónima de Cristovão Tezza. \nTRAILER \n \n
URL:https://novocine.es/evento/novocine-proyeccion-filho-eterno-andorra-la-vella/
LOCATION:centro cultural La Llacuna del Comú de Andorra la Vella
CATEGORIES:cine brasileño,cine brasileño gratis,V.O.S.E.
END:VEVENT
BEGIN:VEVENT
DTSTART;TZID=Europe/Paris:20180922T220000
DTEND;TZID=Europe/Paris:20180922T233000
DTSTAMP:20260419T135612
CREATED:20180911T161309Z
LAST-MODIFIED:20180911T161309Z
UID:4037-1537653600-1537659000@novocine.es
SUMMARY:NOVOCINE: proyección de "O silêncio do céu" en Andorra la Vella
DESCRIPTION:El salón del actos del centro cultural La Llacuna del Comú de Andorra la Vella acogerá la proyección\, gratuita y en V.O. de varios de los títulos que conforman la XIII edición de Novocine\, muestra de cina brasileño gratuita y en V.O. organizada por la Embajada de Brasil y la Fundación Cultural Hispano-Brasileña. \nDirector: Marco Dutra. \nSINOPSIS \nDespués de ser víctima de una violación dentro de su propia casa\, Diana decide mantener su drama en secreto. Mario\, su marido\, también tiene algo que esconder. El silencio que se apodera de la pareja a lo largo de los días se transforma poco a poco en una peculiar forma de violencia. \nTRAILER \n \n
URL:https://novocine.es/evento/novocine-proyeccion-silencio-do-ceu-andorra-la-vella/
LOCATION:centro cultural La Llacuna del Comú de Andorra la Vella
CATEGORIES:cine brasileño,cine brasileño gratis,V.O.S.E.
END:VEVENT
END:VCALENDAR