BEGIN:VCALENDAR
VERSION:2.0
PRODID:-//Novocine - ECPv4.9.9//NONSGML v1.0//EN
CALSCALE:GREGORIAN
METHOD:PUBLISH
X-WR-CALNAME:Novocine
X-ORIGINAL-URL:https://novocine.es
X-WR-CALDESC:Eventos para Novocine
BEGIN:VTIMEZONE
TZID:Europe/Paris
BEGIN:DAYLIGHT
TZOFFSETFROM:+0100
TZOFFSETTO:+0200
TZNAME:CEST
DTSTART:20180325T010000
END:DAYLIGHT
BEGIN:STANDARD
TZOFFSETFROM:+0200
TZOFFSETTO:+0100
TZNAME:CET
DTSTART:20181028T010000
END:STANDARD
END:VTIMEZONE
BEGIN:VEVENT
DTSTART;TZID=Europe/Paris:20180921T200000
DTEND;TZID=Europe/Paris:20180921T233000
DTSTAMP:20260419T155007
CREATED:20180911T160841Z
LAST-MODIFIED:20180913T150008Z
UID:4032-1537560000-1537572600@novocine.es
SUMMARY:NOVOCINE: proyección de "Sob pressão" en Andorra la Vella
DESCRIPTION:El salón del actos del centro cultural La Llacuna del Comú de Andorra la Vella acogerá la proyección\, gratuita y en V.O. de varios de los títulos que conforman la XIII edición de Novocine\, muestra de cina brasileño gratuita y en V.O. organizada por la Embajada de Brasil y la Fundación Cultural Hispano-Brasileña. \nDirector: Andrucha Waddington. \nSINOPSIS \nEn un día bastante tenso los médicos de un hospital público\, acostumbrados a la dura realidad\, tienen que enfrentarse una vez más a una difícil decisión cuando tres pacientes en estado grave precisan de ayuda al mismo tiempo. Con pocos recursos\, deciden atender a todos y lidiar con las presiones sociales provocadas por esta situación. \nTRAILER \n \n
URL:https://novocine.es/evento/novocine-proyeccion-sob-pressao-andorra-la-vella/
LOCATION:centro cultural La Llacuna del Comú de Andorra la Vella
CATEGORIES:cine brasileño,cine brasileño gratis,V.O.S.E.
END:VEVENT
END:VCALENDAR