BEGIN:VCALENDAR
VERSION:2.0
PRODID:-//Novocine - ECPv4.9.9//NONSGML v1.0//EN
CALSCALE:GREGORIAN
METHOD:PUBLISH
X-WR-CALNAME:Novocine
X-ORIGINAL-URL:https://novocine.es
X-WR-CALDESC:Eventos para Novocine
BEGIN:VTIMEZONE
TZID:Europe/Paris
BEGIN:DAYLIGHT
TZOFFSETFROM:+0100
TZOFFSETTO:+0200
TZNAME:CEST
DTSTART:20180325T010000
END:DAYLIGHT
BEGIN:STANDARD
TZOFFSETFROM:+0200
TZOFFSETTO:+0100
TZNAME:CET
DTSTART:20181028T010000
END:STANDARD
END:VTIMEZONE
BEGIN:VEVENT
DTSTART;TZID=Europe/Paris:20180907T190000
DTEND;TZID=Europe/Paris:20180907T210000
DTSTAMP:20260419T190151
CREATED:20180904T114451Z
LAST-MODIFIED:20180904T114451Z
UID:4021-1536346800-1536354000@novocine.es
SUMMARY:NOVOCINE: proyección de "Sob pressão" en Barcelona
DESCRIPTION:La Filmoteca de Cataluña acoge la proyección de cinco de los títulos que forman parte de la XI edición de Novocine\, muestra anual organizada por la Embajada de Brasil y la Fundación Cultural Hispano-Brasileña con el objetivo de dar a conocer entre el público español las últimas novedades del cine brasileño en V.O. \nDirector: Andrucha Waddington. \nSINOPSIS \nEn un día bastante tenso los médicos de un hospital público\, acostumbrados a la dura realidad\, tienen que enfrentarse una vez más a una difícil decisión cuando tres pacientes en estado grave precisan de ayuda al mismo tiempo. Con pocos recursos\, deciden atender a todos y lidiar con las presiones sociales provocadas por esta situación. \nTRAILER \n \n
URL:https://novocine.es/evento/novocine-proyeccion-sob-pressao-barcelona/
LOCATION:Filmoteca de Cataluña\, Plaça de Salvador Seguí\, 1\, Barcelona\, Cataluña\, 08001\, España
CATEGORIES:cine brasileño,V.O.S.E.
END:VEVENT
END:VCALENDAR