BEGIN:VCALENDAR
VERSION:2.0
PRODID:-//Novocine - ECPv4.9.9//NONSGML v1.0//EN
CALSCALE:GREGORIAN
METHOD:PUBLISH
X-WR-CALNAME:Novocine
X-ORIGINAL-URL:https://novocine.es
X-WR-CALDESC:Eventos para Novocine
BEGIN:VTIMEZONE
TZID:Europe/Paris
BEGIN:DAYLIGHT
TZOFFSETFROM:+0100
TZOFFSETTO:+0200
TZNAME:CEST
DTSTART:20170326T010000
END:DAYLIGHT
BEGIN:STANDARD
TZOFFSETFROM:+0200
TZOFFSETTO:+0100
TZNAME:CET
DTSTART:20171029T010000
END:STANDARD
END:VTIMEZONE
BEGIN:VEVENT
DTSTART;TZID=Europe/Paris:20171128T190000
DTEND;TZID=Europe/Paris:20171128T210000
DTSTAMP:20260419T171719
CREATED:20171006T143257Z
LAST-MODIFIED:20171006T143257Z
UID:3624-1511895600-1511902800@novocine.es
SUMMARY:NOVOCINE: proyección de “Pequeno Segredo” en Madrid
DESCRIPTION:La proyección se enmarca en la XI edición de Novocine\, muestra anual de carácter gratuito organizada por la Embajada de Brasil y la Fundación Cultural Hispano-Brasileña con el objetivo de dar a conocer entre el público español las últimas novedades del cine brasileño en V.O.S.E. \nLas entradas\, un máximo de dos por persona\, podrán recogerse en la taquilla de la sala desde una hora antes del inicio de la película. \nDirector: David Schurmann. \nSINOPSIS \nBasada en una historia real\, en esta película se cuentan tres historias interligadas en torno a una niña y un secreto\, y se muestra cómo la esperanza\, los sueños y el destino pueden unir a personas de diferentes partes del mundo. \nTRAILER \n \n
URL:https://novocine.es/evento/novocine-proyeccion-pequeno-segredo-madrid-2/
LOCATION:Cine Palacio de la Prensa\, Plaza de Callao\, 4\, 28013 \, Madrid\, Madrid\, 28013 \, España
CATEGORIES:cine brasileño,cine brasileño gratis,V.O.S.E.
END:VEVENT
BEGIN:VEVENT
DTSTART;TZID=Europe/Paris:20171128T210000
DTEND;TZID=Europe/Paris:20171128T230000
DTSTAMP:20260419T171719
CREATED:20171006T115308Z
LAST-MODIFIED:20171006T115309Z
UID:3616-1511902800-1511910000@novocine.es
SUMMARY:NOVOCINE: proyección de “Elis” en Madrid
DESCRIPTION:La proyección se enmarca en la XI edición de Novocine\, muestra anual de carácter gratuito organizada por la Embajada de Brasil y la Fundación Cultural Hispano-Brasileña con el objetivo de dar a conocer entre el público español las últimas novedades del cine brasileño en V.O.S.E. \nLas entradas\, un máximo de dos por persona\, podrán recogerse en la taquilla de la sala desde una hora antes del inicio de la película. \nDirector: Hugo Prata. \nSINOPSIS \nLa vida de Elis Regina\, una de las mejores cantantes brasileñas de todos los tiempos\, contada desde sus comienzos hasta el final de su corta pero intensa carrera. Una carrera en busca de cambios\, reinvenciones y lucha contra sus propios temores y demonios personales en plena dictadura militar brasileña. \nTRAILER \n \n
URL:https://novocine.es/evento/novocine-proyeccion-elis-madrid-2/
LOCATION:Cine Palacio de la Prensa\, Plaza de Callao\, 4\, 28013 \, Madrid\, Madrid\, 28013 \, España
CATEGORIES:cine brasileño,cine brasileño gratis,V.O.S.E.
END:VEVENT
END:VCALENDAR