BEGIN:VCALENDAR
VERSION:2.0
PRODID:-//Novocine - ECPv4.9.9//NONSGML v1.0//EN
CALSCALE:GREGORIAN
METHOD:PUBLISH
X-WR-CALNAME:Novocine
X-ORIGINAL-URL:https://novocine.es
X-WR-CALDESC:Eventos para Novocine
BEGIN:VTIMEZONE
TZID:Europe/Paris
BEGIN:DAYLIGHT
TZOFFSETFROM:+0100
TZOFFSETTO:+0200
TZNAME:CEST
DTSTART:20170326T010000
END:DAYLIGHT
BEGIN:STANDARD
TZOFFSETFROM:+0200
TZOFFSETTO:+0100
TZNAME:CET
DTSTART:20171029T010000
END:STANDARD
END:VTIMEZONE
BEGIN:VEVENT
DTSTART;TZID=Europe/Paris:20171127T190000
DTEND;TZID=Europe/Paris:20171127T210000
DTSTAMP:20260419T185812
CREATED:20171006T115812Z
LAST-MODIFIED:20171006T115812Z
UID:3618-1511809200-1511816400@novocine.es
SUMMARY:NOVOCINE: proyección de "La vingança" en Madrid
DESCRIPTION:La proyección se enmarca en la XI edición de Novocine\, muestra anual de carácter gratuito organizada por la Embajada de Brasil y la Fundación Cultural Hispano-Brasileña con el objetivo de dar a conocer entre el público español las últimas novedades del cine brasileño en V.O.S.E. \nLas entradas\, un máximo de dos por persona\, podrán recogerse en la taquilla de la sala desde una hora antes del inicio de la película. \nDirector: Fernando Fraiha. \nSINOPSIS \nCaco planea sorprender a su novia pidiéndole matrimonio\, pero la sorpresa se la lleva él al pillarla con un argentino. Vadão\, el mejor amigo de Caco\, lo arrastra a viajar a Argentina para tomarse la revancha. Mientras Vadão está muy animado para la aventura\, Caco piensa en cómo recuperar a su exnovia. Pero las cosas no salen como esperan. \nTRAILER \n \n
URL:https://novocine.es/evento/novocine-proyeccion-la-vinganca-madrid/
LOCATION:Cine Palacio de la Prensa\, Plaza de Callao\, 4\, 28013 \, Madrid\, Madrid\, 28013 \, España
CATEGORIES:cine brasileño,cine brasileño gratis,V.O.S.E.
END:VEVENT
BEGIN:VEVENT
DTSTART;TZID=Europe/Paris:20171127T213000
DTEND;TZID=Europe/Paris:20171127T230000
DTSTAMP:20260419T185812
CREATED:20171006T143107Z
LAST-MODIFIED:20171006T143107Z
UID:3622-1511818200-1511823600@novocine.es
SUMMARY:NOVOCINE: proyección de “Sob pressão” en Madrid
DESCRIPTION:La proyección se enmarca en la XI edición de Novocine\, muestra anual de carácter gratuito organizada por la Embajada de Brasil y la Fundación Cultural Hispano-Brasileña con el objetivo de dar a conocer entre el público español las últimas novedades del cine brasileño en V.O.S.E. \nLas entradas\, un máximo de dos por persona\, podrán recogerse en la taquilla de la sala desde una hora antes del inicio de la película. \nDirector: Andrucha Waddington. \nSINOPSIS \nEn un día bastante tenso los médicos de un hospital público\, acostumbrados a la dura realidad\, tienen que enfrentarse una vez más a una difícil decisión cuando tres pacientes en estado grave precisan de ayuda al mismo tiempo. Con pocos recursos\, deciden atender a todos y lidiar con las presiones sociales provocadas por esta situación. \nTRAILER \n \n
URL:https://novocine.es/evento/novocine-proyeccion-sob-pressao-madrid-2/
LOCATION:Cine Palacio de la Prensa\, Plaza de Callao\, 4\, 28013 \, Madrid\, Madrid\, 28013 \, España
CATEGORIES:cine brasileño,cine brasileño gratis,V.O.S.E.
END:VEVENT
END:VCALENDAR