BEGIN:VCALENDAR
VERSION:2.0
PRODID:-//Novocine - ECPv4.9.9//NONSGML v1.0//EN
CALSCALE:GREGORIAN
METHOD:PUBLISH
X-WR-CALNAME:Novocine
X-ORIGINAL-URL:https://novocine.es
X-WR-CALDESC:Eventos para Novocine
BEGIN:VTIMEZONE
TZID:Europe/Paris
BEGIN:DAYLIGHT
TZOFFSETFROM:+0100
TZOFFSETTO:+0200
TZNAME:CEST
DTSTART:20170326T010000
END:DAYLIGHT
BEGIN:STANDARD
TZOFFSETFROM:+0200
TZOFFSETTO:+0100
TZNAME:CET
DTSTART:20171029T010000
END:STANDARD
END:VTIMEZONE
BEGIN:VEVENT
DTSTART;TZID=Europe/Paris:20171124T190000
DTEND;TZID=Europe/Paris:20171124T203000
DTSTAMP:20260419T185714
CREATED:20171006T113002Z
LAST-MODIFIED:20171006T113002Z
UID:3599-1511550000-1511555400@novocine.es
SUMMARY:NOVOCINE: proyección de "Sob pressão" en Madrid
DESCRIPTION:La proyección se enmarca en la XI edición de Novocine\, muestra anual de carácter gratuito organizada por la Embajada de Brasil y la Fundación Cultural Hispano-Brasileña con el objetivo de dar a conocer entre el público español las últimas novedades del cine brasileño en V.O.S.E. \nLas entradas\, un máximo de dos por persona\, podrán recogerse en la taquilla de la sala desde una hora antes del inicio de la película. \nDirector: Andrucha Waddington. \nSINOPSIS \nEn un día bastante tenso los médicos de un hospital público\, acostumbrados a la dura realidad\, tienen que enfrentarse una vez más a una difícil decisión cuando tres pacientes en estado grave precisan de ayuda al mismo tiempo. Con pocos recursos\, deciden atender a todos y lidiar con las presiones sociales provocadas por esta situación. \nTRAILER \n \n
URL:https://novocine.es/evento/novocine-proyeccion-sob-pressao-madrid/
LOCATION:Cine Palacio de la Prensa\, Plaza de Callao\, 4\, 28013 \, Madrid\, Madrid\, 28013 \, España
CATEGORIES:cine brasileño,cine brasileño gratis,V.O.S.E.
END:VEVENT
BEGIN:VEVENT
DTSTART;TZID=Europe/Paris:20171124T213000
DTEND;TZID=Europe/Paris:20171124T230000
DTSTAMP:20260419T185714
CREATED:20171006T113408Z
LAST-MODIFIED:20171006T113408Z
UID:3601-1511559000-1511564400@novocine.es
SUMMARY:NOVOCINE: proyección de "O filho eterno"en Madrid
DESCRIPTION:La proyección se enmarca en la XI edición de Novocine\, muestra anual de carácter gratuito organizada por la Embajada de Brasil y la Fundación Cultural Hispano-Brasileña con el objetivo de dar a conocer entre el público español las últimas novedades del cine brasileño en V.O.S.E. \nLas entradas\, un máximo de dos por persona\, podrán recogerse en la taquilla de la sala desde una hora antes del inicio de la película. \nDirector: Paulo Machline. \nSINOPSIS \nRoberto\, escritor en ciernes\, está ilusionado con el nacimiento de su hijo. Sin embargo\, aún en el hospital\, descubre que tendrá que acostumbrarse a una nueva realidad: ser padre de Fabrício\, un niño con síndrome de Down. La noticia provoca en Roberto una maraña de emociones contradictorias y conflictos que acaban afectando a su trabajo y a su relación matrimonial con Claudia. A lo largo de 12 años\, entre obstáculos\, conquistas y descubrimientos\, se revela el significado de la paternidad. Esta película se basa en la obra homónima de Cristovão Tezza. \nTRAILER \n \n
URL:https://novocine.es/evento/novocine-proyeccion-filho-eternoen-madrid/
LOCATION:Cine Palacio de la Prensa\, Plaza de Callao\, 4\, 28013 \, Madrid\, Madrid\, 28013 \, España
CATEGORIES:cine brasileño,cine brasileño gratis,V.O.S.E.
END:VEVENT
END:VCALENDAR