BEGIN:VCALENDAR
VERSION:2.0
PRODID:-//Novocine - ECPv4.9.9//NONSGML v1.0//EN
CALSCALE:GREGORIAN
METHOD:PUBLISH
X-WR-CALNAME:Novocine
X-ORIGINAL-URL:https://novocine.es
X-WR-CALDESC:Eventos para Novocine
BEGIN:VTIMEZONE
TZID:Europe/Paris
BEGIN:DAYLIGHT
TZOFFSETFROM:+0100
TZOFFSETTO:+0200
TZNAME:CEST
DTSTART:20170326T010000
END:DAYLIGHT
BEGIN:STANDARD
TZOFFSETFROM:+0200
TZOFFSETTO:+0100
TZNAME:CET
DTSTART:20171029T010000
END:STANDARD
END:VTIMEZONE
BEGIN:VEVENT
DTSTART;TZID=Europe/Paris:20171023T183000
DTEND;TZID=Europe/Paris:20171023T200000
DTSTAMP:20260419T203630
CREATED:20171016T114135Z
LAST-MODIFIED:20171016T114135Z
UID:3658-1508783400-1508788800@novocine.es
SUMMARY:Proyección de “Arábia” en Las Palamas de Gran Canaria
DESCRIPTION:La cinta se proyectará en el marco de IBÉRTIGO: 15ª Muestra de Cine Iberoamericano\, organizada por la Asociación de Cine Vértigo. \nLa entrada es gratuita y las películas se proyectarán en VOSE. \nDirectores: João Dumans y Affonso Uchoa. \nSINOPSIS \nAndré es un niño que vive en un barrio industrial de Ouro Preto\, Brasil\, cerca de una antigua fábrica de aluminio. Un día encuentra un cuaderno de uno de los trabajadores de la fábrica. Arábia es una obra de tintes neorrealistas que se asoma con ternura y delicadeza a la tragedia de un Brasil devastado\, donde a la miseria ya solo le queda por corroer el alma de su gente. \nTRAILER \n \nFESTIVALES Y PREMIOS \nBAFICI – Festival Internacional de Cine Independiente de Buenos Aires (Argentina): Mención Especial.\nFestival Internacional de Cine de Uruguay: Mención Especial.\nIndieLisboa – Festival Internacional de Cinema Independiente de Lisboa (Portugal): Premio Especial del Jurado.\nFestival Internacional de Cine de Brasilia (Brasil): Mejor película.\nYerevan International Film Festival (Armenia): Premio Silver Apricot.\nFestival Internacional de Cine de San Sebastián – Horizontes Latinos (España).\nFestival Internacional de Cine de Rotterdam (Países Bajos).\nKarlovy Vary International Film Festival (Chequia).\nFID Marseille (Francia). \n
URL:https://novocine.es/evento/proyeccion-arabia-las-palamas-gran-canaria/
LOCATION:Casa de Colón\, Calle de Colón\, 1\, 35001 Vegueta\, Las Palmas\, Las Palmas\, Canarias\,  35001\, España
CATEGORIES:cine brasileño,cine brasileño gratis,V.O.S.E.
END:VEVENT
BEGIN:VEVENT
DTSTART;TZID=Europe/Paris:20171023T203000
DTEND;TZID=Europe/Paris:20171023T203000
DTSTAMP:20260419T203630
CREATED:20171016T152921Z
LAST-MODIFIED:20171016T152947Z
UID:3666-1508790600-1508790600@novocine.es
SUMMARY:Proyección de "El camino de los gigantes" en Las Palmas de Gran Canaria
DESCRIPTION:El cortometraje se proyectará en el marco de IBÉRTIGO: 15ª Muestra de Cine Iberoamericano\, organizada por la Asociación de Cine Vértigo. \nLa entrada es gratuita y las películas se proyectarán en VOSE. \nDirector: Alois Di Leo. \nSINOPSIS \nOquirá es una niña indígena de seis años que vive en una aldea flanqueada por árboles gigantescos. Empujada por la curiosidad\, se adentra sola en el bosque para observar de cerca a aquellos enormes seres en busca de respuestas sobre el mundo que la rodea. El contacto con estas formas ancestrales la llevará a comprender las raíces de su cultura y a afrontar su propio destino en el ciclo de la vida. Resultado de un arduo proceso de producción de dos años\, el viaje iniciático de la pequeña Oquirá se presenta como un alegato verde que explora las conexiones del ser humano con la tierra y sus elementos. \nFESTIVALES Y PREMIOS \nChicago Children’s Film Festival (Estados Unidos): Mejor película y Premio al Mejor corto de animación otorgado por el Jurado Adulto.\nFestival Biarritz Amérique Latine (Francia): Prix TV5 MONDE.\nGoiânia Mostra Curtas (Brasil): Premio del Jurado Popular al Mejor cortometraje.\nANIMA MUNDI – Festival Internacional de Animação do Brasil: Premio al Mejor concepto de sonido.\nCurta Cinema – Rio de Janeiro International Short Film Festival (Brasil): Mejor director.\nBaixada Animada (Brasil): Mención Especial del Jurado.\nMONSTRA – Lisbon Animated Film Festival (Portugal): Mención Especial del Jurado. \n
URL:https://novocine.es/evento/proyeccion-camino-los-gigantes-las-palmas-gran-canaria/
LOCATION:Canarias
CATEGORIES:cine brasileño,cine brasileño gratis,V.O.S.E.
END:VEVENT
END:VCALENDAR