BEGIN:VCALENDAR
VERSION:2.0
PRODID:-//Novocine - ECPv4.9.9//NONSGML v1.0//EN
CALSCALE:GREGORIAN
METHOD:PUBLISH
X-WR-CALNAME:Novocine
X-ORIGINAL-URL:https://novocine.es
X-WR-CALDESC:Eventos para Novocine
BEGIN:VTIMEZONE
TZID:Europe/Paris
BEGIN:DAYLIGHT
TZOFFSETFROM:+0100
TZOFFSETTO:+0200
TZNAME:CEST
DTSTART:20170326T010000
END:DAYLIGHT
BEGIN:STANDARD
TZOFFSETFROM:+0200
TZOFFSETTO:+0100
TZNAME:CET
DTSTART:20171029T010000
END:STANDARD
END:VTIMEZONE
BEGIN:VEVENT
DTSTART;TZID=Europe/Paris:20170901T190000
DTEND;TZID=Europe/Paris:20170901T210000
DTSTAMP:20260419T221651
CREATED:20170822T144524Z
LAST-MODIFIED:20170822T144524Z
UID:3564-1504292400-1504299600@novocine.es
SUMMARY:NOVOCINE: proyección de "Nise\, o coração da loucura" en Barcelona
DESCRIPTION:Una selección de cinco de los títulos que componen la X edición de NOVOCINE llega a la Filmoteca de Cataluña donde se proyectarán en V.O.S.E del viernes 1 de septiembre al miércoles 6. \nLa entrada general tiene un precio de 4€\, la reducida de 3€\, las que son adquiridas con el carnet “Filmo 10″ a 2€ y es gratuita para los abonados de la Filmoteca. \nDirector: Roberto Berliner. \nSINOPSIS \nLa doctora Nise da Silveira entra a trabajar en un hospital psiquiátrico de Río de Janeiro donde se niega a utilizar los electrochoques y la lobotomía en el tratamiento de los esquizofrénicos. Aislada del resto de los médicos pone en marcha un taller de terapia ocupacional que dará inicio a una revolución regida por el amor\, el arte y la locura. \nPREMIOS \nMejor Película – Festival de Tokio\, 2015\nMejor Actriz- Festival de Tokio\, 2015\nMejor Película- Premio del público- Festival de Río\, 2015\nMejor Película – Premio del público- Fest Aruanda\, João Pessoa\, 2015\nMejor Banda Sonora- Fest Aruanda\, João Pessoa\, 2015\nMejor Dirección de Arte – Fest Aruanda\, João Pessoa\, 2015\nMejor Película – Cine Fest Brasil Buenos Aires\, 2016\nMejor Película – Cine Fest Brasil Montevideo\, 2016\nPelícula de apertura – Jangada – Festival de Cine Brasileño de Paris\, 2016\nSección Oficial – Ficpunta\, Festival de Cine de Punta del Este\, 2016\nSección Oficial – Festival de Gotemburgo\, 2016\nSección Oficial – Festival de Glasgow\, 2016\nSección Oficial – Muestra Internacional de São Paulo\, 2015\nPelícula de clausura – Festival Pachamama\, Rio Branco\, 2015 \nTRAILER \n \n
URL:https://novocine.es/evento/novocine-proyeccion-nise-coracao-da-loucura-barcelona/
LOCATION:Filmoteca de Cataluña\, Plaça de Salvador Seguí\, 1\, Barcelona\, Cataluña\, 08001\, España
CATEGORIES:cine brasileño,V.O.S.E.
END:VEVENT
BEGIN:VEVENT
DTSTART;TZID=Europe/Paris:20170901T223000
DTEND;TZID=Europe/Paris:20170901T233000
DTSTAMP:20260419T221651
CREATED:20170821T150230Z
LAST-MODIFIED:20170821T150230Z
UID:3557-1504305000-1504308600@novocine.es
SUMMARY:Proyección de "Proibido proibir" en Monleras\, Salamanca
DESCRIPTION:La cinta se proyectará\, gratuitamente y en V.O.S.E.\, el el marco del Ciclo de Cine Brasileño organizado por la Junta de Castilla y León con la colaboración de la Embajada de Brasil y de la Fundación Cultural Hispano-Brasileña. \nDirector: Jorge Durán. \nSINOPSIS \nTres jóvenes universitarios\, Paulo\, Letícia y Leon\, se enfrentan a los conflictos morales y éticos de un triángulo amoroso. Al mismo tiempo la vida universitaria les lleva a implicarse en los problemas de la realidad que les circunda\, en los cuales intentan intervenir\, con consecuencias dramáticas. \nTRAILER \n \n
URL:https://novocine.es/evento/proyeccion-proibido-proibir-monleras-salamanca/
LOCATION:Centro Cultural Viejo del Ayuntamiento de Monleras\, Travesía la Cuesta\, Monleras\, Salamanca\, 37171\, España
CATEGORIES:cine brasileño,cine brasileño gratis,V.O.S.E.
END:VEVENT
END:VCALENDAR