BEGIN:VCALENDAR
VERSION:2.0
PRODID:-//Novocine - ECPv4.9.9//NONSGML v1.0//EN
CALSCALE:GREGORIAN
METHOD:PUBLISH
X-WR-CALNAME:Novocine
X-ORIGINAL-URL:https://novocine.es
X-WR-CALDESC:Eventos para Novocine
BEGIN:VTIMEZONE
TZID:Europe/Paris
BEGIN:DAYLIGHT
TZOFFSETFROM:+0100
TZOFFSETTO:+0200
TZNAME:CEST
DTSTART:20170326T010000
END:DAYLIGHT
BEGIN:STANDARD
TZOFFSETFROM:+0200
TZOFFSETTO:+0100
TZNAME:CET
DTSTART:20171029T010000
END:STANDARD
END:VTIMEZONE
BEGIN:VEVENT
DTSTART;TZID=Europe/Paris:20170717T120000
DTEND;TZID=Europe/Paris:20170717T140000
DTSTAMP:20260419T203420
CREATED:20170714T143034Z
LAST-MODIFIED:20170714T143034Z
UID:3541-1500292800-1500300000@novocine.es
SUMMARY:Presentación del Anuario del Cine Iberoamericano en Madrid
DESCRIPTION:La Sala Cervantes de Casa de América acoge la presentación del Anuario del Cine Iberoamericano\, documento que reúne los datos de los 900 títulos de largometrajes estrenados en salas comerciales de los 22 países de origen durante el 2016 siendo el segundo año consecutivo que MRC / Barlovento acometen esta publicación. \nEl acto contará con la intervención de Ángel Durández\, vicepresidente de la Fundación Euroamérica y productor de cine; Fernando Labrada\, presidente de Media Research & Consultancy; Fernando R. Lafuente\, director del Instituto Español de la Fundación José Ortega y Gasset-Gregorio Marañón; Ricardo Vaca\, presidente de Barlovento Comunicación y Enrique Vargas\, Coordinador del Espacio Cultural Iberoamericano\, SEGIB. \nAl finalizar el acto se entregará un documento resumen del Anuario del 2016 y un pendrive con los Anuarios del 2015 y 2016. \nEntrada gratuita previa inscripción en el correo fundacioneuroamerica@euroamerica.org. \n
URL:https://novocine.es/evento/presentacion-del-anuario-del-cine-iberoamericano-madrid/
LOCATION:Casa de América\, Plaza de Cibeles s/n\, Madrid\, Madrid\, 28014\, España
END:VEVENT
BEGIN:VEVENT
DTSTART;TZID=Europe/Paris:20170717T170000
DTEND;TZID=Europe/Paris:20170717T183000
DTSTAMP:20260419T203420
CREATED:20170713T101642Z
LAST-MODIFIED:20170713T101642Z
UID:3531-1500310800-1500316200@novocine.es
SUMMARY:Proyección de "Paulina" en Cartagena
DESCRIPTION:La premiada co-producción Argentina/Brasil se proyectará gratuitamente en Cartagena\, en el marco del festival La Mar de Cine: Nuevos Horizontes Latinoamericanos. \nDirector: Santiago Mitre \nSINOPSIS \nPaulina es una abogada que oficia en la ciudad Argentina de Buenos Aires\, y cuya carrera va viento en popa\, hasta que un día elige volver a la localidad en la que nació: Misiones\, donde ejercerá labores sociales. Contra la voluntad de su padre\, un conocido juez\, la joven decide ayudar en un programa de inclusión social en el que ejercerá como maestra en un colegio. \nTras dos semanas de duro trabajo\, recibe una paliza al anochecer\, por parte de un grupo de pandilleros. A pesar de que su familia sigue en contra de su decisión\, la joven decide volver al peligroso barrio a retomar sus labores\, sin pensar lo cerca que tiene el peligro. \nTRAILER \n \n
URL:https://novocine.es/evento/proyeccion-paulina-cartagena/
LOCATION:Nuevo Teatro Circo de Cartagena\, Cartagena\, Murcia\, España
CATEGORIES:cine brasileño
END:VEVENT
BEGIN:VEVENT
DTSTART;TZID=Europe/Paris:20170717T190000
DTEND;TZID=Europe/Paris:20170717T210000
DTSTAMP:20260419T203420
CREATED:20170713T102145Z
LAST-MODIFIED:20170713T102145Z
UID:3534-1500318000-1500325200@novocine.es
SUMMARY:Proyección de "Aquarius" en Cartagena
DESCRIPTION:La premiada cinta\, traducida en España como “Doña Clara”\, se proyectará gratuitamente en Cartagena\, en el marco del festival La Mar de Cine: Nuevos Horizontes Latinoamericanos. \nDirector: Kleber Mendoça Filho \nSINOPSIS \nClara\, una ex crítica musical de Recife de 65 años\, vive retirada en un edificio particular\, el Aquarius\, construido en la década de 1940 sobre la chic Avenida Boa Viagem que bordea el océano. Un importante promotor ha comprado todos los apartamentos\, pero ella se niega a vender el suyo y emprende una guerra fría contra la empresa que la acosa. La estresante situación la perturba y la lleva a pensar en su vida\, en su pasado\, en sus seres queridos. \nTRAILER \n \n
URL:https://novocine.es/evento/proyeccion-aquarius-cartagena/
LOCATION:Nuevo Teatro Circo de Cartagena\, Cartagena\, Murcia\, España
CATEGORIES:cine brasileño,cine brasileño gratis,V.O.S.E.
END:VEVENT
END:VCALENDAR