BEGIN:VCALENDAR
VERSION:2.0
PRODID:-//Novocine - ECPv4.9.9//NONSGML v1.0//EN
CALSCALE:GREGORIAN
METHOD:PUBLISH
X-WR-CALNAME:Novocine
X-ORIGINAL-URL:https://novocine.es
X-WR-CALDESC:Eventos para Novocine
BEGIN:VTIMEZONE
TZID:Europe/Paris
BEGIN:DAYLIGHT
TZOFFSETFROM:+0100
TZOFFSETTO:+0200
TZNAME:CEST
DTSTART:20170326T010000
END:DAYLIGHT
BEGIN:STANDARD
TZOFFSETFROM:+0200
TZOFFSETTO:+0100
TZNAME:CET
DTSTART:20171029T010000
END:STANDARD
END:VTIMEZONE
BEGIN:VEVENT
DTSTART;TZID=Europe/Paris:20170614T190000
DTEND;TZID=Europe/Paris:20170614T210000
DTSTAMP:20260419T184820
CREATED:20170608T104703Z
LAST-MODIFIED:20170608T104703Z
UID:3506-1497466800-1497474000@novocine.es
SUMMARY:NOVOCINE: proyección de “O vendedor de passados” en Segovia
DESCRIPTION:Una selección de cinco de los títulos que componen la X edición de NOVOCINE llega al Palacio Quintanar de Segovia donde se proyectarán gratuitamente y en V.O.S.E. del martes 6 al jueves 8 y el 13 y 14 de junio en un pase por día. \nOrganizadas por la Embajada de Brasil y por la Fundación Cultural Hispano-Brasileña\, las proyecciones cuentan con el apoyo de la Consejería de Cultura y Turismo de la Junta de Castilla y León. \nDirector: Lula Buarque de Hollanda. \nSINOPSIS \nVicente se gana la vida creando por encargo nuevos pasados por medio de documentos\, fotos y vídeos. Su vida se transforma cuando una bella y misteriosa cliente aparece en su oficina y le encarga un pasado sin facilitarle ningún detalle de su vida y poniéndole como única condición que en ese pasado ella debe haber cometido un crimen. \nPREMIOS \nMejor Actor (Lárazo Ramos) en el Cine PE- Festival Audiovisual 2015.\nMejor Edición de Sonido (Miriam Biderman\, ABC e Ricardo Reis) en el Cine PE- Festival Audiovisual 2015.\nPelícula de apertura del Festival de Cine Itinerante de la Lengua Portuguesa FESTIN (Lisboa) 2015. \nTRAILER \n \n
URL:https://novocine.es/evento/novocine-proyeccion-vendedor-passados-segovia/
LOCATION:Palacio Quintanar\, C/ San Agustín s/n \, Segóvia\, castilla león\, 40.001\, España
CATEGORIES:cine brasileño,cine brasileño gratis,V.O.S.E.
END:VEVENT
BEGIN:VEVENT
DTSTART;TZID=Europe/Paris:20170614T200000
DTEND;TZID=Europe/Paris:20170614T220000
DTSTAMP:20260419T184820
CREATED:20170322T111930Z
LAST-MODIFIED:20170322T111930Z
UID:3438-1497470400-1497477600@novocine.es
SUMMARY:NOVOCINE: proyección de “Irmã Dulce” en Salamanca
DESCRIPTION:El Teatro Juan del Enzina de Salamanca acoge una selección de cuatro de los títulos que integran la X edición de NOVOCINE. \nLas proyecciones\, gratuitas y en V.O.S.E. cuentan con el apoyo del Centro de Estudios Brasileños de la Universidad de Salamanca y de la Junta de Castilla y León. \nDirector: Vicente Amorim. \nSINOPSIS \nEsta es la emocionante historia de la Hermana Dulce\, el “Ángel Bueno de Bahía”\, una mujer cuyo objetivo en la vida era confortar a los necesitados\, cuidar a los enfermos y amparar a los miserables. Con obstinación\, alegría\, fe y amor construyó una obra que aún hoy sigue vigente en Bahía. \nPREMIOS \nNominada en el Gran Premio del Cine Brasileño de 2015\, otorgado por la Academia Brasileña de Cine\, en las categorías de: \nMejor Actriz: Bianca Comparato.\nMejor Actriz de Reparto: Glória Pires.\nDirección de Fotografía: Gustavo Hadba.\nDirección de Arte: Daniel Flaksman.\nVestuario: Cris Kangussu.\nMaquillaje: Auri Mota.\nEfecto Visual: Robson Sartori.\nGuion Original: Anna Muylaert y L. G. Bayão.\nBanda Sonora: Fabiano Krieger y Lucas Marcier. \nFestival de Cine Itinerante de la Lengua Portuguesa FESTIN (Lisboa) 2015. \nTRAILER \n \n
URL:https://novocine.es/evento/novocine-proyeccion-irma-dulce-salamanca/
LOCATION:Teatro Juan del Enzina\, Calle del Tostado s/n\, Salamanca\, Castilla y León\, 37008\, España
CATEGORIES:cine brasileño,cine brasileño gratis,V.O.S.E.
END:VEVENT
END:VCALENDAR