BEGIN:VCALENDAR
VERSION:2.0
PRODID:-//Novocine - ECPv4.9.9//NONSGML v1.0//EN
CALSCALE:GREGORIAN
METHOD:PUBLISH
X-WR-CALNAME:Novocine
X-ORIGINAL-URL:https://novocine.es
X-WR-CALDESC:Eventos para Novocine
BEGIN:VTIMEZONE
TZID:Europe/Paris
BEGIN:DAYLIGHT
TZOFFSETFROM:+0100
TZOFFSETTO:+0200
TZNAME:CEST
DTSTART:20170326T010000
END:DAYLIGHT
BEGIN:STANDARD
TZOFFSETFROM:+0200
TZOFFSETTO:+0100
TZNAME:CET
DTSTART:20171029T010000
END:STANDARD
END:VTIMEZONE
BEGIN:VEVENT
DTSTART;TZID=Europe/Paris:20170605T173000
DTEND;TZID=Europe/Paris:20170609T200000
DTSTAMP:20260419T184703
CREATED:20170511T144918Z
LAST-MODIFIED:20170511T144918Z
UID:3468-1496683800-1497038400@novocine.es
SUMMARY:Ciclo de cine en portugués "Cinema e literatura"
DESCRIPTION:La Secretaría General Iberoamericana y las embajadas de Brasil y Portugual organizan el I Ciclo de Cine y Literatura en Portugués\, con la colaboración de la Feria del Libro de Madrid. \nSe proyectarán gratuitamente 7 películas brasileñas y portuguesas en V.O.S.E. basadas en obras literarias. \n5 de junio \n17:30h: inauguración \n18h: Ceguera \n6 de junio \n16h: El Delfín \n18h: Olga \n7 de junio \n18h: El primo Basílio \n8 de junio \n16h: Cinco Días\, Cinco Noches \n19h: Memorias póstumas \n9 de junio \n18h: Los Inmortales \n
URL:https://novocine.es/evento/ciclo-cine-portugues-cinema-e-literatura/
LOCATION:Salón de actos de la Biblioteca Eugenia Trías. Parque del Retiro\, Parque del Retiro de Madrid\, Madrid\, España
CATEGORIES:cine brasileño gratis,V.O.S.E.
END:VEVENT
BEGIN:VEVENT
DTSTART;TZID=Europe/Paris:20170608T190000
DTEND;TZID=Europe/Paris:20170608T210000
DTSTAMP:20260419T184703
CREATED:20170512T150225Z
LAST-MODIFIED:20170512T150225Z
UID:3479-1496948400-1496955600@novocine.es
SUMMARY:Proyección de "Memorias póstumas" en Madrid
DESCRIPTION:La Secretaría General Iberoamericana y las embajadas de Brasil y Portugual organizan el I Ciclo de Cine y Literatura en Portugués\, con la colaboración de la Feria del Libro de Madrid. \nSe proyectarán gratuitamente 7 películas brasileñas y portuguesas en V.O.S.E. basadas en obras literarias. \nDirector: André Klotzel \nSINOPSIS  \nDespués de haber muerto en 1869\, Brás Cubas (Reginaldo Faria) decide narrar su historia para distraerse en la eternidad. Recuerda a amigos como Quincas Borba (Marcos Caruso)\, a los amores de su vida y el privilegio de no haber tenido que trabajar nunca. \nTRAILER \n \n
URL:https://novocine.es/evento/proyeccion-memorias-postumas-madrid/
LOCATION:Salón de actos de la Biblioteca Eugenia Trías. Parque del Retiro\, Parque del Retiro de Madrid\, Madrid\, España
CATEGORIES:cine brasileño,cine brasileño gratis,V.O.S.E.
END:VEVENT
BEGIN:VEVENT
DTSTART;TZID=Europe/Paris:20170608T190000
DTEND;TZID=Europe/Paris:20170608T210000
DTSTAMP:20260419T184703
CREATED:20170608T104140Z
LAST-MODIFIED:20170608T104140Z
UID:3502-1496948400-1496955600@novocine.es
SUMMARY:NOVOCINE: proyección de “Jonas” en Segovia
DESCRIPTION:Una selección de cinco de los títulos que componen la X edición de NOVOCINE llega al Palacio Quintanar de Segovia donde se proyectarán gratuitamente y en V.O.S.E. del martes 6 al jueves 8 y el 13 y 14 de junio en un pase por día. \nOrganizadas por la Embajada de Brasil y por la Fundación Cultural Hispano-Brasileña\, las proyecciones cuentan con el apoyo de la Consejería de Cultura y Turismo de la Junta de Castilla y León. \nDirectora: Lô Politi. \nSINOPSIS \nJonas tiene 20 años y desde su infancia está enamorado de Branca\, hija de la patrona de su madre. En vísperas de carnaval un accidente le lleva a secuestrarla y esconderla en el interior de la Ballena\, el carro alegórico de la escuela de samba del barrio. A medida que transcurre la semana Jonas tendrá que lidiar con las consecuencias del secuestro \nPREMIOS \nPremio Especial del Jurado Nuevos Rumbos del Festival de Cinema do Rio 2015. \nTRAILER \n \n
URL:https://novocine.es/evento/novocine-proyeccion-jonas-segovia/
LOCATION:Palacio Quintanar\, C/ San Agustín s/n \, Segóvia\, castilla león\, 40.001\, España
CATEGORIES:cine brasileño,cine brasileño gratis,V.O.S.E.
END:VEVENT
END:VCALENDAR