BEGIN:VCALENDAR
VERSION:2.0
PRODID:-//Novocine - ECPv4.9.9//NONSGML v1.0//EN
CALSCALE:GREGORIAN
METHOD:PUBLISH
X-WR-CALNAME:Novocine
X-ORIGINAL-URL:https://novocine.es
X-WR-CALDESC:Eventos para Novocine
BEGIN:VTIMEZONE
TZID:Europe/Paris
BEGIN:DAYLIGHT
TZOFFSETFROM:+0100
TZOFFSETTO:+0200
TZNAME:CEST
DTSTART:20170326T010000
END:DAYLIGHT
BEGIN:STANDARD
TZOFFSETFROM:+0200
TZOFFSETTO:+0100
TZNAME:CET
DTSTART:20171029T010000
END:STANDARD
END:VTIMEZONE
BEGIN:VEVENT
DTSTART;TZID=Europe/Paris:20170223T200000
DTEND;TZID=Europe/Paris:20170224T220000
DTSTAMP:20260419T124308
CREATED:20170221T092925Z
LAST-MODIFIED:20170221T092925Z
UID:3386-1487880000-1487973600@novocine.es
SUMMARY:Proyección de "El profesor de violín" en Madrid
DESCRIPTION:La premiada cinta de Sergio Machado se proyectará en V.O.S.E. los jueves\, viernes y sábados del 9 al 24 de febrero de 2017 en la Sala Iberia. \nEntradas:\nGeneral: 5 euros.\nEntradas con descuentos:\n2\,50 € Usuarios de la tarjeta DMM.\n3 € Mayores de 65\, carnet joven\, empleados de Telefónica e Iberia y titulares de Iberia Plus e Iberia Singular.\n1 € Desempleados. Imprescindible presentar acreditación. \nDirector: Sergio Machado.\nIntérpretes principales: Lázaro Ramos\, Kaique Jesús\, Elzio Vieira\, Sandra Corveloni\, Fernanda de Freitas. \nSINOPSIS \nSâo Paulo\, años noventa. Laerte\, un violinista de gran talento\, da clases de música a adolescentes de una escuela pública en Heliópolis\, un barrio de una zona deprimida de São Paulo\, tras ser rechazado en la prestigiosa Orquesta Sinfónica del Estado.A pesar de las dificultades\, el poder transformador de la música y la amistad que surge entre el profesor y sus alumnos les abre las puertas a un nuevo mundo. Inspirada en la verdadera historia de la orquesta creada por el maestro brasileño Silvio Bacarelli en los años noventa\, que consiguió estimular la inclusión social y cultural de los jóvenes en la favela más grande de São Paulo\, más conocida como Heliópolis. \nTRAILER \n \n
URL:https://novocine.es/evento/proyeccion-profesor-violin-madrid/
LOCATION:Casa de América\, Plaza de Cibeles s/n\, Madrid\, Madrid\, 28014\, España
CATEGORIES:cine brasileño,V.O.S.E.
END:VEVENT
BEGIN:VEVENT
DTSTART;TZID=Europe/Paris:20170224T203000
DTEND;TZID=Europe/Paris:20170224T230000
DTSTAMP:20260419T124308
CREATED:20170130T113205Z
LAST-MODIFIED:20170130T113205Z
UID:3348-1487968200-1487977200@novocine.es
SUMMARY:Proyección de "Cinema Novo" en Madrid
DESCRIPTION:La Cineteca de Matadero Madrid acoge la proyección de este documental ganador de numerosos premios nacionales e internacionales. \nDirector: Eryk Rocha. \nSINOPSIS: \nCinema novo es un poético ensayo cinematográfico que explora uno de los movimientos estéticos más fértiles del cine de América Latina de los años 50 y 60\, a través de las reflexiones de sus principales autores\, y de varios extractos de sus trabajos. \nEste film documental se sumerge en la aventura de crear una generación de cineastas que inventó una nueva manera de hacer cine en Brasil\, desde una postura política que combina el arte y la revolución. Y con el deseo de crear un cine que sale de las calles al encuentro del pueblo brasileño. Una idea en sus mentes\, una cámara en sus manos y la ambición de cambiar el Mundo. \nFESTIVALES Y PREMIOS: \nL’Oeil D’Or al Mejor documental en el Festival de Cannes\, 2016. \nColón de Oro en el Festival de Cine Iberoamericano de Hueva. \nMejor documental del año por la crítica brasileña. \nNominado a los Premios Fénix. Festival de Brasilia. \nFestival de Rio de Janeiro. \nFestival Mar de Plata. \nFestival de Biarritz Amerique Latine. \nPremio especial del jurado en SANFIC. \nForum des images Paris. \nFestival de Oporto. \nTRAILER: \nhttps://youtu.be/sw0sLBSdta0 \n
URL:https://novocine.es/evento/proyeccion-cinema-novo-madrid/
LOCATION:Sala Azcona. Cineteca Matadero\, Plaza de Legazpi\, 8\, Madrid\, Madrid\, 28045 \, España
CATEGORIES:cine brasileño,V.O.S.E.
END:VEVENT
END:VCALENDAR