BEGIN:VCALENDAR
VERSION:2.0
PRODID:-//Novocine - ECPv4.9.9//NONSGML v1.0//EN
CALSCALE:GREGORIAN
METHOD:PUBLISH
X-WR-CALNAME:Novocine
X-ORIGINAL-URL:https://novocine.es
X-WR-CALDESC:Eventos para Novocine
BEGIN:VTIMEZONE
TZID:Europe/Paris
BEGIN:DAYLIGHT
TZOFFSETFROM:+0100
TZOFFSETTO:+0200
TZNAME:CEST
DTSTART:20210328T010000
END:DAYLIGHT
BEGIN:STANDARD
TZOFFSETFROM:+0200
TZOFFSETTO:+0100
TZNAME:CET
DTSTART:20211031T010000
END:STANDARD
END:VTIMEZONE
BEGIN:VEVENT
DTSTART;TZID=Europe/Paris:20211213T201500
DTEND;TZID=Europe/Paris:20211213T201500
DTSTAMP:20260421T005435
CREATED:20211201T181525Z
LAST-MODIFIED:20211201T192526Z
UID:5045-1639426500-1639426500@novocine.es
SUMMARY:XV NOVOCINE (2021) Inauguración - Proyección de SUEÑOS FLORIANÓPOLIS\, de Ana Katz
DESCRIPTION:
URL:https://novocine.es/evento/xv-novocine-2021-inauguracion-proyeccion-suenos-florianopolis/
LOCATION:Cine Conde Duque Verdi Alberto Aguilera\, c/ Alberto Aguilera\, 4\, Madrid\, España
CATEGORIES:cine brasileño,cine brasileño gratis,V.O.S.E.
END:VEVENT
END:VCALENDAR