BEGIN:VCALENDAR
VERSION:2.0
PRODID:-//Novocine - ECPv4.9.9//NONSGML v1.0//EN
CALSCALE:GREGORIAN
METHOD:PUBLISH
X-WR-CALNAME:Novocine
X-ORIGINAL-URL:https://novocine.es
X-WR-CALDESC:Eventos para Novocine
BEGIN:VTIMEZONE
TZID:Europe/Paris
BEGIN:DAYLIGHT
TZOFFSETFROM:+0100
TZOFFSETTO:+0200
TZNAME:CEST
DTSTART:20150329T010000
END:DAYLIGHT
BEGIN:STANDARD
TZOFFSETFROM:+0200
TZOFFSETTO:+0100
TZNAME:CET
DTSTART:20151025T010000
END:STANDARD
END:VTIMEZONE
BEGIN:VEVENT
DTSTART;TZID=Europe/Paris:20150923T200000
DTEND;TZID=Europe/Paris:20150923T220000
DTSTAMP:20260426T015531
CREATED:20150821T140052Z
LAST-MODIFIED:20150821T140052Z
UID:2333-1443038400-1443045600@novocine.es
SUMMARY:Proyección de "A cegas" en Málaga
DESCRIPTION:La película se proyectará en V.O.S.E. \nDirector: Fernando Meirelles. \nSINOPSIS \nAdaptación de la novela “Ensayo sobre la ceguera” del Premio Nobel portugués José Saramago. Una misteriosa epidemia de ceguera se propaga por un país. Las primeras víctimas son recluidas en un hospital sin recibir explicaciones. Entre ellas está una mujer que conserva la vista\, pero lo mantiene en secreto para poder acompañar a su marido que se ha quedado ciego. Dentro del hospital se impone la ley del más fuerte\, lo que dará lugar a todo tipo de atrocidades. Mientras tanto\, el caos y el terror dominan las calles. \nTRAILER \n \n
URL:https://novocine.es/evento/proyeccion-de-a-cegas-en-malaga/
LOCATION:Centro de Arte Contemporáneo de Málaga\, Alemania s/n\, Málaga\, Andalucía\, 29001\, España
CATEGORIES:cine brasileño,cine brasileño gratis,V.O.S.E.
END:VEVENT
END:VCALENDAR