BEGIN:VCALENDAR
VERSION:2.0
PRODID:-//Novocine - ECPv4.9.9//NONSGML v1.0//EN
CALSCALE:GREGORIAN
METHOD:PUBLISH
X-WR-CALNAME:Novocine
X-ORIGINAL-URL:https://novocine.es
X-WR-CALDESC:Eventos para Novocine
BEGIN:VTIMEZONE
TZID:Europe/Paris
BEGIN:DAYLIGHT
TZOFFSETFROM:+0100
TZOFFSETTO:+0200
TZNAME:CEST
DTSTART:20190331T010000
END:DAYLIGHT
BEGIN:STANDARD
TZOFFSETFROM:+0200
TZOFFSETTO:+0100
TZNAME:CET
DTSTART:20191027T010000
END:STANDARD
END:VTIMEZONE
BEGIN:VEVENT
DTSTART;TZID=Europe/Paris:20191126T213000
DTEND;TZID=Europe/Paris:20191126T233000
DTSTAMP:20260419T144138
CREATED:20191115T110146Z
LAST-MODIFIED:20191115T110146Z
UID:4750-1574803800-1574811000@novocine.es
SUMMARY:NOVOCINE: proyección de ‘Tito e os pássaros’ en Madrid
DESCRIPTION:\nLa cinta forma parte de la XIII edición de Novocine\, muestra gratuita de cine brasileño en V.O.S.E. organizada por la Embajada de Brasil para dar a conocer entre el público español la cinematografía más reciente y premiada del país. \nLas entradas para cada proyección\, un máximo de dos por persona\, se recogerán gratuitamente en taquilla desde una hora antes del inicio de cada sesión. \nDirectores: Gabriel Bitar\, André Catoto\, Gustavo Steinberg. \nSinopsis \nTito es un niño tímido de 10 años que vive con su madre. De repente\, una epidemia comienza a extenderse. Las personas que se asustan caen enfermas. Tito descubre que la cura está\, de algún modo\, relacionada con la investigación que su padre\, ahora desaparecido\, estaba desarrollando sobre el canto de las aves\, por lo que se embarca junto a sus amigos en una aventura para salvar al mundo. La busca del antídoto se convierte en la búsqueda de su padre y de su propia identidad. \nProyecciones \nLa película se proyectará el viernes 22 de noviembre a las 19h y el martes 26 a las 21:30h en el Cine Palacio de la Prensa (Plaza del Callao\, 4. Madrid). Entrada gratuita. \nTrailer \n \nFestivales y Premios \n\nMejor Largometraje de Animación – Festival de Chicago\nMejor Largometraje de Animación – Festival de la Habana\nMejor Largometraje de Animación – Children’s Film Festival Seattle\nMejor Largometraje Infantil- Anima Mundi 2019 (Brasil)\nNominada a Mejor Animación Independiente-  AWARDS\nNominada a Mejor Largometraje- Annecy 2018 (Francia)\nFinalista al Premio al Mejor Largo de Animación Iberoamericano – Premios Quirino\nFestival de Toronto 2018\nFestival de Sitges 2018\n\n‘Tito e os pássaros’ fue una de las películas pre-seleccionadas para competir por Brasil en los Oscar en la categoría de Mejor Animación. \n\n
URL:https://novocine.es/evento/novocine-proyeccion-tito-e-os-passaros-madrid-2/
LOCATION:Cine Palacio de la Prensa\, Plaza de Callao\, 4\, 28013 \, Madrid\, Madrid\, 28013 \, España
CATEGORIES:cine brasileño,cine brasileño gratis,V.O.S.E.
END:VEVENT
END:VCALENDAR