BEGIN:VCALENDAR
VERSION:2.0
PRODID:-//Novocine - ECPv4.9.9//NONSGML v1.0//EN
CALSCALE:GREGORIAN
METHOD:PUBLISH
X-WR-CALNAME:Novocine
X-ORIGINAL-URL:https://novocine.es
X-WR-CALDESC:Eventos para Novocine
BEGIN:VTIMEZONE
TZID:Europe/Paris
BEGIN:DAYLIGHT
TZOFFSETFROM:+0100
TZOFFSETTO:+0200
TZNAME:CEST
DTSTART:20180325T010000
END:DAYLIGHT
BEGIN:STANDARD
TZOFFSETFROM:+0200
TZOFFSETTO:+0100
TZNAME:CET
DTSTART:20181028T010000
END:STANDARD
END:VTIMEZONE
BEGIN:VEVENT
DTSTART;TZID=Europe/Paris:20181016T170000
DTEND;TZID=Europe/Paris:20181016T190000
DTSTAMP:20260419T221958
CREATED:20180919T145116Z
LAST-MODIFIED:20180919T145257Z
UID:4058-1539709200-1539716400@novocine.es
SUMMARY:NOVOCINE: proyección de "Sob pressão" en Bilbao
DESCRIPTION:En el marco de Novocine itinerante\, La Fundación Bilbao Arte acoge la proyección de tres de las películas que han formado parte de la XI edición de la muestra de cine brasileño y de una de la X edición. \nLas cintas se proyectarán en V.O.S.E. La entrada es gratuita. \nDirector: Andrucha Waddington. \nSINOPSIS \nEn un día bastante tenso los médicos de un hospital público\, acostumbrados a la dura realidad\, tienen que enfrentarse una vez más a una difícil decisión cuando tres pacientes en estado grave precisan de ayuda al mismo tiempo. Con pocos recursos\, deciden atender a todos y lidiar con las presiones sociales provocadas por esta situación. \nTRAILER \n \n
URL:https://novocine.es/evento/novocine-proyeccion-sob-pressao-bilbao/
LOCATION:Fundación Bilbao Arte (Urazurrutia Kalea\, 32\, Bilbao)\, Urazurrutia Kalea\, 32\, Bilbao\, Bizkaia\, 48003\, España
CATEGORIES:cine brasileño,cine brasileño gratis,V.O.S.E.
END:VEVENT
END:VCALENDAR