BEGIN:VCALENDAR
VERSION:2.0
PRODID:-//Novocine - ECPv4.9.9//NONSGML v1.0//EN
CALSCALE:GREGORIAN
METHOD:PUBLISH
X-WR-CALNAME:Novocine
X-ORIGINAL-URL:https://novocine.es
X-WR-CALDESC:Eventos para Novocine
BEGIN:VTIMEZONE
TZID:Europe/Paris
BEGIN:DAYLIGHT
TZOFFSETFROM:+0100
TZOFFSETTO:+0200
TZNAME:CEST
DTSTART:20180325T010000
END:DAYLIGHT
BEGIN:STANDARD
TZOFFSETFROM:+0200
TZOFFSETTO:+0100
TZNAME:CET
DTSTART:20181028T010000
END:STANDARD
END:VTIMEZONE
BEGIN:VEVENT
DTSTART;TZID=Europe/Paris:20181116T200000
DTEND;TZID=Europe/Paris:20181116T220000
DTSTAMP:20260420T124252
CREATED:20181031T121304Z
LAST-MODIFIED:20181031T121304Z
UID:4262-1542398400-1542405600@novocine.es
SUMMARY:NOVOCINE: proyección de "O silêncio do céu" en Salamanca
DESCRIPTION:En el marco de Novocine itinerante\, el Teatro Juan del Enzina acoge la proyección gratuita de cuatro de las películas que han formado parte de la XI edición de la muestra de cine brasileño: “Elis”\, de Hugo Prata\, ” Sob Pressão”\, de Andrucha Waddington\, “O filho eterno”\, de Paulo Machline y “O silêncio do céu”\, de Marco Dutra. \nLa muestra\, organizada por la Embajada de Brasil y la Fundación Cultural Hispano-Brasileña cuenta con la colaboración en Salamanca del Centro de Estudios Brasileños de la Universidad de Salamanca. \nDirector: Marco Dutra. \nSINOPSIS \nDespués de ser víctima de una violación dentro de su propia casa\, Diana decide mantener su drama en secreto. Mario\, su marido\, también tiene algo que esconder. El silencio que se apodera de la pareja a lo largo de los días se transforma poco a poco en una peculiar forma de violencia. \nTRAILER \n \n
URL:https://novocine.es/evento/novocine-proyeccion-silencio-do-ceu-salamanca/
LOCATION:Teatro Juan del Enzina\, Calle del Tostado s/n\, Salamanca\, Castilla y León\, 37008\, España
CATEGORIES:cine brasileño,cine brasileño gratis,V.O.S.E.
END:VEVENT
END:VCALENDAR