BEGIN:VCALENDAR
VERSION:2.0
PRODID:-//Novocine - ECPv4.9.9//NONSGML v1.0//EN
CALSCALE:GREGORIAN
METHOD:PUBLISH
X-WR-CALNAME:Novocine
X-ORIGINAL-URL:https://novocine.es
X-WR-CALDESC:Eventos para Novocine
BEGIN:VTIMEZONE
TZID:Europe/Paris
BEGIN:DAYLIGHT
TZOFFSETFROM:+0100
TZOFFSETTO:+0200
TZNAME:CEST
DTSTART:20170326T010000
END:DAYLIGHT
BEGIN:STANDARD
TZOFFSETFROM:+0200
TZOFFSETTO:+0100
TZNAME:CET
DTSTART:20171029T010000
END:STANDARD
END:VTIMEZONE
BEGIN:VEVENT
DTSTART;TZID=Europe/Paris:20171129T213000
DTEND;TZID=Europe/Paris:20171129T230000
DTSTAMP:20260420T103812
CREATED:20171006T110712Z
LAST-MODIFIED:20171006T114011Z
UID:3595-1511991000-1511996400@novocine.es
SUMMARY:NOVOCINE: proyección de "O silêncio do céu" en Madrid
DESCRIPTION:La proyección se enmarca en la XI edición de Novocine\, muestra anual de carácter gratuito organizada por la Embajada de Brasil y la Fundación Cultural Hispano-Brasileña con el objetivo de dar a conocer entre el público español las últimas novedades del cine brasileño en V.O.S.E. \nLas entradas\, un máximo de dos por persona\, podrán recogerse en la taquilla de la sala desde una hora antes del inicio de la película. \nDirector: Marco Dutra. \nSINOPSIS \nDespués de ser víctima de una violación dentro de su propia casa\, Diana decide mantener su drama en secreto. Mario\, su marido\, también tiene algo que esconder. El silencio que se apodera de la pareja a lo largo de los días se transforma poco a poco en una peculiar forma de violencia. \nTRAILER \n \n
URL:https://novocine.es/evento/novocine-proyeccion-outro-lado-do-paraiso-madrid/
LOCATION:Cine Palacio de la Prensa\, Plaza de Callao\, 4\, 28013 \, Madrid\, Madrid\, 28013 \, España
CATEGORIES:cine brasileño,cine brasileño gratis,V.O.S.E.
END:VEVENT
END:VCALENDAR