BEGIN:VCALENDAR
VERSION:2.0
PRODID:-//Novocine - ECPv4.9.9//NONSGML v1.0//EN
CALSCALE:GREGORIAN
METHOD:PUBLISH
X-WR-CALNAME:Novocine
X-ORIGINAL-URL:https://novocine.es
X-WR-CALDESC:Eventos para Novocine
BEGIN:VTIMEZONE
TZID:Europe/Paris
BEGIN:DAYLIGHT
TZOFFSETFROM:+0100
TZOFFSETTO:+0200
TZNAME:CEST
DTSTART:20180325T010000
END:DAYLIGHT
BEGIN:STANDARD
TZOFFSETFROM:+0200
TZOFFSETTO:+0100
TZNAME:CET
DTSTART:20181028T010000
END:STANDARD
END:VTIMEZONE
BEGIN:VEVENT
DTSTART;TZID=Europe/Paris:20181120T213000
DTEND;TZID=Europe/Paris:20181120T233000
DTSTAMP:20260419T124749
CREATED:20181017T100832Z
LAST-MODIFIED:20181017T100916Z
UID:4109-1542749400-1542756600@novocine.es
SUMMARY:NOVOCINE: proyección de “Malasartes- E o duelo com a morte” en Madrid
DESCRIPTION:La proyección se enmarca en la XII edición de Novocine\, muestra anual de carácter gratuito organizada por la Embajada de Brasil y la Fundación Cultural Hispano-Brasileña con el objetivo de dar a conocer entre el público español las últimas novedades del cine brasileño\, en V.O.S.E. \nLas entradas\, un máximo de dos por persona\, podrán recogerse en la taquilla de la sala desde una hora antes del inicio de la película. \nDirector: Paulo Morelli. \nClasificación indicativa: 12 años. \nSINOPSIS \nComedia sobre las aventuras de Pedro Malasartes\, personaje tradicional del folclore iberoamericano que vive de pequeños trapicheos. Malasartes tendrá que enfrentarse con dos grandes enemigos: Próspero\, que no quiere que su hermana Aurea se convierta en su novia porque le considera un vago; y la Muerte que\, cansada de segar vidas\, quiere que Malasartes tome su lugar. Si no basta con el plan de la Muerte y las ganas de Próspero de estrangularle\, Malasartes tendrá que lidiar con la bruja Parca Cortadeira y con el ayudante de la Muerte\, Esculápio\, que desean para sí mismos el puesto que la Muerte pretende dejar. \nTRAILER \n \nPREMIOS Y FESTIVALES \n27º Festival de Cine de Ceará \nMalasartes es la película con mayor número de efectos especiales de la historia del cine brasileño. \n
URL:https://novocine.es/evento/novocine-proyeccion-malasartes-e-duelo-com-morte-madrid-2/
LOCATION:Cine Palacio de la Prensa\, Plaza de Callao\, 4\, 28013 \, Madrid\, Madrid\, 28013 \, España
CATEGORIES:cine brasileño,cine brasileño gratis,V.O.S.E.
END:VEVENT
END:VCALENDAR