BEGIN:VCALENDAR
VERSION:2.0
PRODID:-//Novocine - ECPv4.9.9//NONSGML v1.0//EN
CALSCALE:GREGORIAN
METHOD:PUBLISH
X-WR-CALNAME:Novocine
X-ORIGINAL-URL:https://novocine.es
X-WR-CALDESC:Eventos para Novocine
BEGIN:VTIMEZONE
TZID:Europe/Paris
BEGIN:DAYLIGHT
TZOFFSETFROM:+0100
TZOFFSETTO:+0200
TZNAME:CEST
DTSTART:20180325T010000
END:DAYLIGHT
BEGIN:STANDARD
TZOFFSETFROM:+0200
TZOFFSETTO:+0100
TZNAME:CET
DTSTART:20181028T010000
END:STANDARD
END:VTIMEZONE
BEGIN:VEVENT
DTSTART;TZID=Europe/Paris:20181120T190000
DTEND;TZID=Europe/Paris:20181120T210000
DTSTAMP:20260420T103718
CREATED:20181017T105652Z
LAST-MODIFIED:20181017T105652Z
UID:4131-1542740400-1542747600@novocine.es
SUMMARY:NOVOCINE: proyección de "Antes que eu me esqueça" en Madrid
DESCRIPTION:La proyección se enmarca en la XII edición de Novocine\, muestra anual de carácter gratuito organizada por la Embajada de Brasil y la Fundación Cultural Hispano-Brasileña con el objetivo de dar a conocer entre el público español las últimas novedades del cine brasileño\, en V.O.S.E. \nLas entradas\, un máximo de dos por persona\, podrán recogerse en la taquilla de la sala desde una hora antes del inicio de la película. \nDirector:  Tiago Arikilian. \nSINOPSIS \nLa película gira en torno a la relación entre Polidoro (José de Abreu)\, un soberbio juez de 80 años jubilado que vive solo\, y su hijo Paulo (Danton Mello)\, un pianista fracasado. La trama comienza cuando la otra hija del protagonista\, Bia (Letícia Isnard)\, pone en marcha la incapacitación del anciano y este decide invertir todos sus ahorros en un local de striptease en Copacabana. \nTRAILER \n \n  \nPREMIOS Y FESTIVALES \n\nMejor Película Extranjera del ITFF 2018 Award Winner Production (Tailandia)\nMuestra de São Paulo\nSanta Bárbara Filme Festival (California)\nFestIn Lisboa\nFestival de Cine Brasileño de Paris\n\n
URL:https://novocine.es/evento/novocine-proyeccion-eu-me-esqueca-madrid/
LOCATION:Cine Palacio de la Prensa\, Plaza de Callao\, 4\, 28013 \, Madrid\, Madrid\, 28013 \, España
CATEGORIES:cine brasileño,cine brasileño gratis,V.O.S.E.
END:VEVENT
END:VCALENDAR