BEGIN:VCALENDAR
VERSION:2.0
PRODID:-//Novocine - ECPv4.9.9//NONSGML v1.0//EN
CALSCALE:GREGORIAN
METHOD:PUBLISH
X-WR-CALNAME:Novocine
X-ORIGINAL-URL:https://novocine.es
X-WR-CALDESC:Eventos para Novocine
BEGIN:VTIMEZONE
TZID:Europe/Paris
BEGIN:DAYLIGHT
TZOFFSETFROM:+0100
TZOFFSETTO:+0200
TZNAME:CEST
DTSTART:20180325T010000
END:DAYLIGHT
BEGIN:STANDARD
TZOFFSETFROM:+0200
TZOFFSETTO:+0100
TZNAME:CET
DTSTART:20181028T010000
END:STANDARD
END:VTIMEZONE
BEGIN:VEVENT
DTSTART;TZID=Europe/Paris:20181119T213000
DTEND;TZID=Europe/Paris:20181119T233000
DTSTAMP:20260420T124254
CREATED:20181017T102912Z
LAST-MODIFIED:20181017T103041Z
UID:4118-1542663000-1542670200@novocine.es
SUMMARY:NOVOCINE: proyección de “Aos teus olhos” en Madrid
DESCRIPTION:La proyección se enmarca en la XII edición de Novocine\, muestra anual de carácter gratuito organizada por la Embajada de Brasil y la Fundación Cultural Hispano-Brasileña con el objetivo de dar a conocer entre el público español las últimas novedades del cine brasileño\, en V.O.S.E. \nLas entradas\, un máximo de dos por persona\, podrán recogerse en la taquilla de la sala desde una hora antes del inicio de la película. \nDirectora: Carolina Jabor. \nSINOPSIS \nRubens es un profesor de natación infantil que es acusado por los padres de un alumno de besarle en la boca en el vestuario del club. Cuando la acusación se hace viral tras ser compartida en los grupos de whatsapp y en las redes sociales de la escuela\, comienza un juicio precipitado contra Rubens\, sobre sus acciones e intenciones. \nTRAILER \n \nPREMIOS Y FESTIVALES \nFestival do Rio (2017): \n\nMejor Actor – Daniel de Oliveira\nMejor Actor de Reparto – Marco Rica\nMejor Guion – Lucas Paraizo\nMejor Largometraje de Ficción (Voto Popular)\n\n
URL:https://novocine.es/evento/novocine-proyeccion-aos-teus-olhos-madrid-2/
LOCATION:Cine Palacio de la Prensa\, Plaza de Callao\, 4\, 28013 \, Madrid\, Madrid\, 28013 \, España
CATEGORIES:cine brasileño,cine brasileño gratis,V.O.S.E.
END:VEVENT
END:VCALENDAR