BEGIN:VCALENDAR
VERSION:2.0
PRODID:-//Novocine - ECPv4.9.9//NONSGML v1.0//EN
CALSCALE:GREGORIAN
METHOD:PUBLISH
X-WR-CALNAME:Novocine
X-ORIGINAL-URL:https://novocine.es
X-WR-CALDESC:Eventos para Novocine
BEGIN:VTIMEZONE
TZID:Europe/Paris
BEGIN:DAYLIGHT
TZOFFSETFROM:+0100
TZOFFSETTO:+0200
TZNAME:CEST
DTSTART:20180325T010000
END:DAYLIGHT
BEGIN:STANDARD
TZOFFSETFROM:+0200
TZOFFSETTO:+0100
TZNAME:CET
DTSTART:20181028T010000
END:STANDARD
END:VTIMEZONE
BEGIN:VEVENT
DTSTART;TZID=Europe/Paris:20181117T213000
DTEND;TZID=Europe/Paris:20181117T233000
DTSTAMP:20260420T122224
CREATED:20181017T103918Z
LAST-MODIFIED:20181017T103918Z
UID:4122-1542490200-1542497400@novocine.es
SUMMARY:NOVOCINE: proyección de "Alguma coisa assim" en Madrid
DESCRIPTION:La proyección se enmarca en la XII edición de Novocine\, muestra anual de carácter gratuito organizada por la Embajada de Brasil y la Fundación Cultural Hispano-Brasileña con el objetivo de dar a conocer entre el público español las últimas novedades del cine brasileño\, en V.O.S.E. \nLas entradas\, un máximo de dos por persona\, podrán recogerse en la taquilla de la sala desde una hora antes del inicio de la película. \nDirectores: Esmir Filho y Mariana Bastos. \nSINOPSIS \nCaio y Mari son dos jóvenes que viven una relación que va más allá de cualquier definición. A lo largo de 10 años\, la trama transita entre tres momentos significativos en los que sus deseos entran en conflicto y su relación se pone a prueba. La película\, desarrollada a partir de un corto homónimo de 2006\, propone una reflexión sobre la sexualidad\, las etiquetas y cómo el tiempo construye y transforma las relaciones. \nTRAILER \n \n  \nPREMIOS Y FESTIVALES \n\nFestival do Rio – Mejor Montaje (Caroline Leone)\nFestival de Guadalajara (México) 2018\n\n
URL:https://novocine.es/evento/novocine-proyeccion-alguma-coisa-assim-madrid/
LOCATION:Cine Palacio de la Prensa\, Plaza de Callao\, 4\, 28013 \, Madrid\, Madrid\, 28013 \, España
CATEGORIES:cine brasileño,cine brasileño gratis,V.O.S.E.
END:VEVENT
END:VCALENDAR