BEGIN:VCALENDAR
VERSION:2.0
PRODID:-//Novocine - ECPv4.9.9//NONSGML v1.0//EN
CALSCALE:GREGORIAN
METHOD:PUBLISH
X-WR-CALNAME:Novocine
X-ORIGINAL-URL:https://novocine.es
X-WR-CALDESC:Eventos para Novocine
BEGIN:VTIMEZONE
TZID:Europe/Paris
BEGIN:DAYLIGHT
TZOFFSETFROM:+0100
TZOFFSETTO:+0200
TZNAME:CEST
DTSTART:20190331T010000
END:DAYLIGHT
BEGIN:STANDARD
TZOFFSETFROM:+0200
TZOFFSETTO:+0100
TZNAME:CET
DTSTART:20191027T010000
END:STANDARD
END:VTIMEZONE
BEGIN:VEVENT
DTSTART;TZID=Europe/Paris:20190724T080000
DTEND;TZID=Europe/Paris:20190724T170000
DTSTAMP:20260420T105706
CREATED:20190724T125743Z
LAST-MODIFIED:20190724T125743Z
UID:4517-1563955200-1563987600@novocine.es
SUMMARY:Cuatro cintas brasileñas compiten en el Festival de Cine de Locarno
DESCRIPTION:La 72 cita con el cine internacional que acoge la localidad de Locarno\, en Suiza\, estará marcada por la presencia en la competición de cuatro películas brasileñas: ‘La fiebre’\, de Maya Da-Rin; ‘Swinguerra\, de Barbara Wagner y Benjamin de Burca; ‘Carne’\, de Camila Kater\, y ‘Chão de Rua’\, de Tomás von der Osten. \n‘La fiebre’ competirá en la categoría de “Competencia internacional”. Este trabajo fue seleccionado por el comisario de Locarno\, Antoine Thirion\, cuando fue a Brasil para participar en la “36 edición de Encuentros con el cine brasileño”\, un programa desarrollado por ANCINE en colaboración con el Ministerio de Relaciones Exteriores. \n‘Swinguerra’  competirá en la sección “Moving Ahead” y en la categoría “Leopardos del mañana”\, las películas elegidas fueron “Carne” y “Chão de Rua”. \nPor otro lado\, el Festival contará con un espectáculo retrospectivo\, que este año estará dedicado al cine negro\, en el que participarán las producciones brasileñas: ‘Orfeu Negro’\, de Marcel Camus (1959)\, ‘Amor Maldito’\, de Adélia Sampaio (1984)\, y ‘Abolición’ de Zozimo Bulbul (1988). \n
URL:https://novocine.es/evento/cuatro-cintas-brasilenas-compiten-festival-cine-locarno/
CATEGORIES:cine brasileño
ATTACH;FMTTYPE=image/jpeg:https://novocine.es/wp-content/uploads/2019/07/locarno.jpg
END:VEVENT
END:VCALENDAR